BEGIN:VCALENDAR
VERSION:2.0
PRODID:-//wp-events-plugin.com//7.2.3.1//EN
TZID:Europe/Warsaw
X-WR-TIMEZONE:Europe/Warsaw
BEGIN:VEVENT
UID:19487@night4u.pl
DTSTART;TZID=Europe/Warsaw:20190619T220000
DTEND;TZID=Europe/Warsaw:20190620T040000
DTSTAMP:20190617T194832Z
URL:https://night4u.pl/wydarzenia/dj-z-wasem-bylas-serca-biciem-18-lista-f
 b-free/
SUMMARY:DJ z Wąsem: Byłaś Serca Biciem 18 | lista FB free
DESCRIPTION:Nam nie są straszne burze\, zimne wiatry i schodki. W najbliż
 szą środę DJ z Wąsem przypomni największe polskie szlagiery\, odkurzy
  nieco zapomniane perełki\, czasem zajrzy na zagraniczne listy przebojów
 \, ale przede wszystkim zmusi Was do gimnastyki nóg\, rąk\, gardeł i zr
 elaksuje Wasze głowy. Będziemy tańczyć tańczyć tańczyć!\n\nUsłysz
 ycie:\nAndrzej Zaucha\, Bajm\, Zbigniew Wodecki\, Maanam (Maanam!)\,  Kaya
 h & Bregovic\, Lady Pank\, Anna Jurksztowicz\, Krzysztof Krawczyk\, Halina
  Frąckowiak\, Czesław Niemen\, Anna Jantar\, Queen\, ABBA\, Toto\, Fleet
 wood Mac\, Breakout\, Republikja\, Krystyna Prońko\, Kult\, Brodka\, Oddz
 iał Zamknięty\, Izabela Trojanowska\, Jauntix\, Varius Manx\, Papa Dance
 \, Kombi\, Kapitan Nemo\, Franek Kimono i wiele wiele innych.\n\nStart : 2
 2:00\nWstęp wolny do północy dla osób które potwierdzą na fb swoją 
 obecność (kliknij "wezmę udział"!)\, po północy / pozostali: 10 pols
 kich złotych\n\nPS. Czwartek wolny! Zmęczone ciało!\n\nWAŻNE: na impre
 zach z wąsem nie ma miejsca na rasizm\, szowinizm\, ksenofobię\, seksizm
 \, molestowanie (pamiętaj: 'nie' to znaczy 'nie!') i wszelkie inne zachow
 ania świadczące o braku poszanowania dla drugiego człowieka\, więc je
 śli nie chcesz się dostosować: idź gdzie indziej. A jeśli potrzebujes
 z pomocy\, zgłoś to na barze\, ochronie lub dj-owi.
ATTACH;FMTTYPE=image/jpeg:https://night4u.pl/wp-content/uploads/2019/06/46
 972_image_64321999_2105107309595514_459715483839496192_o.jpg
CATEGORIES:mazowieckie
LOCATION:Remont: Reaktywacja Legendy\, ul. Waryńskiego 12a\, Warsaw\, 00-6
 31\, Poland
GEO:52.216877;21.016427
X-APPLE-STRUCTURED-LOCATION;VALUE=URI;X-ADDRESS=ul. Waryńskiego 12a\, Wars
 aw\, 00-631\, Poland;X-APPLE-RADIUS=100;X-TITLE=Remont: Reaktywacja Legend
 y:geo:52.216877,21.016427
END:VEVENT
BEGIN:VTIMEZONE
TZID:Europe/Warsaw
X-LIC-LOCATION:Europe/Warsaw
BEGIN:DAYLIGHT
DTSTART:20190331T030000
TZOFFSETFROM:+0100
TZOFFSETTO:+0200
TZNAME:CEST
END:DAYLIGHT
END:VTIMEZONE
END:VCALENDAR