BEGIN:VCALENDAR
VERSION:2.0
PRODID:-//wp-events-plugin.com//7.2.3.1//EN
TZID:Europe/Warsaw
X-WR-TIMEZONE:Europe/Warsaw
BEGIN:VEVENT
UID:43472@night4u.pl
DTSTART;TZID=Europe/Warsaw:20200425T220000
DTEND;TZID=Europe/Warsaw:20200426T050000
DTSTAMP:20200424T054152Z
URL:https://night4u.pl/wydarzenia/dnb-melody-21-03-soda-lodz/
SUMMARY:DNB Melody [przełożone] / Soda - Łódź
DESCRIPTION:[IMPREZA PRZEŁOŻONA]\nWstępnie na 25 KWIETNIA ale co się wy
 darzy to czas pokaże.\n\nWiosenna edycja DNB MELODY 2020 🖤\n\nLine Up:
 \n▶ KRIBA (jako Mc oraz DJ!)\n▶ RAZOR POINT (Live Act!)\n▶ INFINITY 
 (Sonic Nation)\n▶ AKIRA MC / DJ (Sonic Nation)\n▶ SINUSOYDA (Bassline 
 / Sonic Nation)\n▶ NO DEFINITION (Revo)\n▶ BIOHU\n_____________\nSonic
  Nation Events
ATTACH;FMTTYPE=image/jpeg:https://night4u.pl/wp-content/uploads/2020/03/13
 8993_image_90439635_2969185786465126_4275962443672322048_n.jpg
CATEGORIES:łódzkie
LOCATION:SODA Underground Stage\, Plac Komuny Paryskiej 6\, Łódź\, 90-00
 7\, Poland
GEO:51.76518;19.45941
X-APPLE-STRUCTURED-LOCATION;VALUE=URI;X-ADDRESS=Plac Komuny Paryskiej 6\, 
 Łódź\, 90-007\, Poland;X-APPLE-RADIUS=100;X-TITLE=SODA Underground Stag
 e:geo:51.76518,19.45941
END:VEVENT
BEGIN:VTIMEZONE
TZID:Europe/Warsaw
X-LIC-LOCATION:Europe/Warsaw
BEGIN:DAYLIGHT
DTSTART:20200329T030000
TZOFFSETFROM:+0100
TZOFFSETTO:+0200
TZNAME:CEST
END:DAYLIGHT
END:VTIMEZONE
END:VCALENDAR