BEGIN:VCALENDAR
VERSION:2.0
PRODID:-//wp-events-plugin.com//7.2.3.1//EN
TZID:Europe/Warsaw
X-WR-TIMEZONE:Europe/Warsaw
BEGIN:VEVENT
UID:9439@night4u.pl
DTSTART;TZID=Europe/Warsaw:20190322T210000
DTEND;TZID=Europe/Warsaw:20190323T050000
DTSTAMP:20190314T210341Z
URL:https://night4u.pl/wydarzenia/dnf-w-klub-studio-gorzow-wlkp/
SUMMARY:DNF w Klub Studio Gorzów Wlkp.
DESCRIPTION:22.03.2019r Piątek\n\nGościem specjalnym będzie DNF! \nTwór
 ca mega klubowych hitów: "SICK"\,"FUNKY"\, "MONSTER" "READY FOR THE BOUNC
 E"\, "PUT YOUR HANDS UP" i wielu innych! \n\nstart 21:00\, do 21:30 Wstęp
  Wolny!\n+18\n\nInfo&Rezerwacje 782 388 584
ATTACH;FMTTYPE=image/jpeg:https://night4u.pl/wp-content/uploads/2019/03/25
 485_image_53846777_2342176495813452_6568573921367425024_o.jpg
CATEGORIES:lubuskie
LOCATION:Klub Studio Gorzów Wlkp\, ul.Chrobrego 2\, Gorzów Wielkopolski\,
  66-400\, Poland
GEO:52.733034;15.23686
X-APPLE-STRUCTURED-LOCATION;VALUE=URI;X-ADDRESS=ul.Chrobrego 2\, Gorzów Wi
 elkopolski\, 66-400\, Poland;X-APPLE-RADIUS=100;X-TITLE=Klub Studio Gorzó
 w Wlkp:geo:52.733034,15.23686
END:VEVENT
BEGIN:VTIMEZONE
TZID:Europe/Warsaw
X-LIC-LOCATION:Europe/Warsaw
BEGIN:STANDARD
DTSTART:20181028T020000
TZOFFSETFROM:+0200
TZOFFSETTO:+0100
TZNAME:CET
END:STANDARD
END:VTIMEZONE
END:VCALENDAR