BEGIN:VCALENDAR
VERSION:2.0
PRODID:-//wp-events-plugin.com//7.2.3.1//EN
TZID:Europe/Warsaw
X-WR-TIMEZONE:Europe/Warsaw
BEGIN:VEVENT
UID:50202@night4u.pl
DTSTART;TZID=Europe/Warsaw:20200403T220000
DTEND;TZID=Europe/Warsaw:20200404T060000
DTSTAMP:20200403T184401Z
URL:https://night4u.pl/wydarzenia/dnf-w-nh-gdynia-lista-fb-free-do-2300/
SUMMARY:DNF w NH Gdynia - lista FB free do 23:00
DESCRIPTION:Czas na gwiazdę młodego pokolenia - jeden z najbardziej utale
 ntowanych producentów ostatnich lat - DNF. Od tej imprezy piątkowe noce 
 nabiorą nowego wymiaru.\n\nConnect with DNF:\n\nhttps://www.dnfmusic.com\
 nhttps://www.facebook.com/dnfofficial\nhttps://www.instagram.com/dnfmusic\
 nhttps://www.soundcloud.com/iamdnf\n\n\nMuzyka:\nDNF\nSupport:\nPHIL NOVY\
 n\nWstęp płatny:  \n                        - lista fb do 23:00 wstęp w
 olny\n                          (listę zamykamy o 20.45)\n               
           aby znaleźć się na liście musisz lubić stronę Nowy        
 \n                          Harem i wziąć udział w  wydarzeniu!!\n     
                    - standardowy bilet wstępu:\n                         
 do 23.00 - 10 zł\, po 23.00 - 20 zł\n                          (upoważn
 ia do jednorazowego wstępu na imprezę\, \n                          regu
 lamin dostępny przy wejściu\n                        - karty klubowe wst
 ęp wolny\n\n\n*Wstęp "18+"\, w razie wątpliwości selekcjoner ma prawo 
 poprosić o dokument potwierdzający wiek.\n** Strój wieczorowy\, modny\,
  klubowy\, niekoniecznie galowy\, zdecydowanie nie sportowy. Wyglądaj dob
 rze\, czuj się komfortowo\, spraw by inni mieli co podziwiać\;)    \n\nR
 ezerwacje: \n                     tel. +48 602-213-323 lub on line \n     
                  \n                     *Regulamin i zasady rezerwacji - k
 liknij link: \n                     https://tinyurl.com/zasadyrezerwacji
ATTACH;FMTTYPE=image/jpeg:https://night4u.pl/wp-content/uploads/2020/03/17
 5602_image_88309118_763560747468863_3239455817170157568_n.jpg
CATEGORIES:pomorskie
LOCATION:Nowy Harem Gdynia\, 3 Maja 28\, Gdynia\, 81-364\, Poland
GEO:54.519089;18.535287
X-APPLE-STRUCTURED-LOCATION;VALUE=URI;X-ADDRESS=3 Maja 28\, Gdynia\, 81-364
 \, Poland;X-APPLE-RADIUS=100;X-TITLE=Nowy Harem Gdynia:geo:54.519089,18.53
 5287
END:VEVENT
BEGIN:VTIMEZONE
TZID:Europe/Warsaw
X-LIC-LOCATION:Europe/Warsaw
BEGIN:DAYLIGHT
DTSTART:20200329T030000
TZOFFSETFROM:+0100
TZOFFSETTO:+0200
TZNAME:CEST
END:DAYLIGHT
END:VTIMEZONE
END:VCALENDAR