BEGIN:VCALENDAR
VERSION:2.0
PRODID:-//wp-events-plugin.com//7.2.3.1//EN
TZID:Europe/Warsaw
X-WR-TIMEZONE:Europe/Warsaw
BEGIN:VEVENT
UID:27466@night4u.pl
DTSTART;TZID=Europe/Warsaw:20190913T210000
DTEND;TZID=Europe/Warsaw:20190915T050000
DTSTAMP:20190914T105631Z
URL:https://night4u.pl/wydarzenia/do-calowania-jeden-krok-w-feniksie/
SUMMARY:Do całowania jeden krok w Feniksie!
DESCRIPTION:Świętuj z nami Dzień Całowania Mężczyzn w Usta ?
ATTACH;FMTTYPE=image/jpeg:https://night4u.pl/wp-content/uploads/2019/09/63
 948_image_71027752_2285491804893726_5187357935562391552_o.jpg
CATEGORIES:małopolskie
LOCATION:Klub Feniks\, Św. Jana 2\, Kraków\, 31-018\, Poland
GEO:50.062465;19.937937
X-APPLE-STRUCTURED-LOCATION;VALUE=URI;X-ADDRESS=Św. Jana 2\, Kraków\, 31-
 018\, Poland;X-APPLE-RADIUS=100;X-TITLE=Klub Feniks:geo:50.062465,19.93793
 7
END:VEVENT
BEGIN:VTIMEZONE
TZID:Europe/Warsaw
X-LIC-LOCATION:Europe/Warsaw
BEGIN:DAYLIGHT
DTSTART:20190331T030000
TZOFFSETFROM:+0100
TZOFFSETTO:+0200
TZNAME:CEST
END:DAYLIGHT
END:VTIMEZONE
END:VCALENDAR