BEGIN:VCALENDAR
VERSION:2.0
PRODID:-//wp-events-plugin.com//7.2.3.1//EN
TZID:Europe/Warsaw
X-WR-TIMEZONE:Europe/Warsaw
BEGIN:VEVENT
UID:3691@night4u.pl
DTSTART;TZID=Europe/Warsaw:20190119T220000
DTEND;TZID=Europe/Warsaw:20190120T050000
DTSTAMP:20190116T101537Z
URL:https://night4u.pl/wydarzenia/dobra-impreza-to-ta-na-ktorej-nie-masz-c
 zasu-poprawic-makijazu/
SUMMARY:Dobra impreza to ta\, na której nie masz czasu poprawić makijażu
DESCRIPTION:Zrobię ostry makijaż a co\,\nChcę wyglądać wyzywająco\,\n
 Jestem inną kobietą nocą\,\nStawiam na zabawę mocną!\nWygodne buty zo
 stawię bo tak\,\nWskoczę w szpilki na wieczór ot tak\,\nCzuć taneczną
  atmosferę aż tak\,\nDo domu wrócę rano\, ooo tak!\n\nDrogie Panie\, l
 iczy się tylko dobra zabawa! Nie ma czasu na poprawianie makijażu. Do go
 dziny 24:00 wchodzicie do klubu za free! ?\n\n\nDo tańca zapraszają:\nNE
 EN NAH\nDisco Teddy\n\n--------------------------------------------\nStart
 : 22:00 | +19 | obowiązuje selekcja\n\nLista FB do 23:00 wstęp wolny (li
 stę zamykamy o 21:30) \nWejście do klubu z listy FB jest jednorazowe.\n\
 nWstęp: 10 pln do 23:00 / 20 pln po 23:00\n\nRezerwacje: info@klubopcja.p
 l
ATTACH;FMTTYPE=image/jpeg:https://night4u.pl/wp-content/uploads/2019/01/11
 600_image_49838138_2371966872813561_316604201419407360_o.jpg
CATEGORIES:wielkopolskie
LOCATION:Klub Opcja\, ul.Półwiejska 18\, Poznan\, 61-888\, Poland
GEO:52.40313;16.92964
X-APPLE-STRUCTURED-LOCATION;VALUE=URI;X-ADDRESS=ul.Półwiejska 18\, Poznan
 \, 61-888\, Poland;X-APPLE-RADIUS=100;X-TITLE=Klub Opcja:geo:52.40313,16.9
 2964
END:VEVENT
BEGIN:VTIMEZONE
TZID:Europe/Warsaw
X-LIC-LOCATION:Europe/Warsaw
BEGIN:STANDARD
DTSTART:20181028T020000
TZOFFSETFROM:+0200
TZOFFSETTO:+0100
TZNAME:CET
END:STANDARD
END:VTIMEZONE
END:VCALENDAR