BEGIN:VCALENDAR
VERSION:2.0
PRODID:-//wp-events-plugin.com//7.2.3.1//EN
TZID:Europe/Warsaw
X-WR-TIMEZONE:Europe/Warsaw
BEGIN:VEVENT
UID:16867@night4u.pl
DTSTART;TZID=Europe/Warsaw:20190614T200000
DTEND;TZID=Europe/Warsaw:20190614T230000
DTSTAMP:20190522T094413Z
URL:https://night4u.pl/wydarzenia/dobry-wieczor-z-plyta-winylowa-40-lecie-
 the-wall-pink-floyd/
SUMMARY:Dobry Wieczór z Płytą Winylową / 40-lecie The Wall Pink Floyd
DESCRIPTION:W listopadzie tego roku mija czterdzieści lat od premiery wiel
 kiego dzieła Pink Floyd „The Wall”. Wiemy\, że później grupa nagra
 ła jeszcze wiele ciekawego materiału ale „The Wall” jest ukoronowani
 em jej złotego okresu\, który przypada na lata siedemdziesiąte XX wieku
 . \nO tej płycie napisano i powiedziano już prawie wszystko\, odtwarzano
  ją miliony razy…To arcydzieło muzyki rockowej\, ikona popkultury… a
  tak mniej pompatycznie to kawał niezłej muzyki!\n\nW piątkowy wieczór
 \, 14 czerwca br.\, w gliwickiej Spirali odtworzymy sobie ją jeszcze raz 
 i opowiemy o niej parę słów. Bogusław Ziębowicz - Vinylhouse  przedst
 awi „The Wall” z punktu widzenia człowieka\, który w chwili jej prem
 iery miał sześć lat a jej zawartość muzyczną poznał i pokochał dek
 adę później. To będzie ciekawy punkt odniesienia. Obiecujmy\, że będ
 zie interesująco\, a nawet chwilami śmiesznie…\n\nBędzie również co
 ś do oglądania - bo powstał także film „The Wall”…\n\nW swoich z
 biorach winylowych mamy kilka ciekawych wydań tej płyty\, w tym także  
 amerykańskie pierwsze jej wydanie. Będziemy słuchać tej wspaniałej p
 łyty na sprzęcie HiFi z najwyższej półki\, który udostępni nam firm
 a Media-Hit.\n\nZapraszam \nBogusław Ziębowicz \nDobry Wieczór z Płyt
 ą Winylową / The Wall Pink Floyd\n14 czerwca 2019 r. Godzina 20:00\nWst
 ęp: 5 zł
ATTACH;FMTTYPE=image/jpeg:https://night4u.pl/wp-content/uploads/2019/05/41
 328_image_60935040_2244424922291013_6671624428910018560_n.jpg
CATEGORIES:śląskie
LOCATION:Klub Studencki Spirala\, Pszczyńska 85\, Gliwice\, 44-100\, Polan
 d
GEO:50.28534;18.67771
X-APPLE-STRUCTURED-LOCATION;VALUE=URI;X-ADDRESS=Pszczyńska 85\, Gliwice\, 
 44-100\, Poland;X-APPLE-RADIUS=100;X-TITLE=Klub Studencki Spirala:geo:50.2
 8534,18.67771
END:VEVENT
BEGIN:VTIMEZONE
TZID:Europe/Warsaw
X-LIC-LOCATION:Europe/Warsaw
BEGIN:DAYLIGHT
DTSTART:20190331T030000
TZOFFSETFROM:+0100
TZOFFSETTO:+0200
TZNAME:CEST
END:DAYLIGHT
END:VTIMEZONE
END:VCALENDAR