BEGIN:VCALENDAR
VERSION:2.0
PRODID:-//wp-events-plugin.com//7.2.3.1//EN
TZID:Europe/Warsaw
X-WR-TIMEZONE:Europe/Warsaw
BEGIN:VEVENT
UID:30656@night4u.pl
DTSTART;TZID=Europe/Warsaw:20191018T200000
DTEND;TZID=Europe/Warsaw:20191018T230000
DTSTAMP:20200331T205444Z
URL:https://night4u.pl/wydarzenia/dobry-wieczor-z-plyta-winylowa-progresyw
 na-budka-suflera/
SUMMARY:Dobry Wieczór z Płytą Winylową - Progresywna Budka Suflera
DESCRIPTION:Takie tango\, Bal wszystkich świętych\, Piąty bieg to od dw
 óch dekad popowa wizytówka zespołu\, który cztery dekady temu był pro
 gresywno-rockową petardą. \nBudka Suflera na przełomie lat siedemdziesi
 ątych i osiemdziesiątych była w ekstraklasie polskiej muzyki rockowej. 
 Kipiało w niej od pomysłów kompozycyjnych i aranżacyjnych. To ona wpra
 wiała w ruch kariery wielu polskich artystów – Urszuli\, Izabeli Troja
 nowskiej….\nTo w niej grali Czesław Niemen\, Jan Borysewicz…\nRomuald
  Lipko\, Krzysztof Cugowski\, Tomasz Zeliszewski stanowią trzon Budki Suf
 lera ale przewinęło się przez nią wielu ważnych muzyków…\n\nI co p
 o niej zostało? Zapowiadana reaktywacja\, trasa koncertowa z cyklu „odg
 rzewane kotlety” no i wspomnienia oraz muzyka zapisana na płytach winyl
 owych.\nNa najbliższym Dobrym wieczorze z płytą winylową zajmiemy się
  wspomnieniami zapisanymi na czarnych krążkach…\nCofniemy się do czas
 ów\, gdy muzyka rockowa była młoda i młoda była Budka Suflera\, a ja 
 byłem dziecięciem i uczyłem się pisać\, czytać i liczyć.\n\nA Wy ki
 m byliście w tamtych czasach? A może Was jeszcze nie było na świecie?\
 nZnów włączymy nasz muzyczny wehikuł czasu…\n\nZapraszam serdecznie\
 nBogusław Ziębowicz
ATTACH;FMTTYPE=image/jpeg:https://night4u.pl/wp-content/uploads/2019/10/70
 665_image_71279539_2482078225192347_6608366320918462464_o.jpg
CATEGORIES:śląskie
LOCATION:Klub Studencki Spirala\, Pszczyńska 85\, Gliwice\, 44-100\, Polan
 d
GEO:50.28534;18.67771
X-APPLE-STRUCTURED-LOCATION;VALUE=URI;X-ADDRESS=Pszczyńska 85\, Gliwice\, 
 44-100\, Poland;X-APPLE-RADIUS=100;X-TITLE=Klub Studencki Spirala:geo:50.2
 8534,18.67771
END:VEVENT
BEGIN:VTIMEZONE
TZID:Europe/Warsaw
X-LIC-LOCATION:Europe/Warsaw
BEGIN:DAYLIGHT
DTSTART:20190331T030000
TZOFFSETFROM:+0100
TZOFFSETTO:+0200
TZNAME:CEST
END:DAYLIGHT
END:VTIMEZONE
END:VCALENDAR