BEGIN:VCALENDAR
VERSION:2.0
PRODID:-//wp-events-plugin.com//7.2.3.1//EN
TZID:Europe/Warsaw
X-WR-TIMEZONE:Europe/Warsaw
BEGIN:VEVENT
UID:20391@night4u.pl
DTSTART;TZID=Europe/Warsaw:20190629T210000
DTEND;TZID=Europe/Warsaw:20190630T060000
DTSTAMP:20190629T105527Z
URL:https://night4u.pl/wydarzenia/dont-stop-the-party-29-06/
SUMMARY:Don't stop the party // 29.06
DESCRIPTION:Lato za oknem\, lato w sercach\, więc imprezujemy aż do końc
 a! U nas melanż się nie kończy!\n\nLINE UP:\nGórna sala\nDJ RED\n\nDol
 na sala\nDJ PUOCKY\n\nWjazd: panowie 10 zł\, panie free\, lista FB free d
 o 23.30\, karty klubowe free\, selekcja\n\nENG:\n\nSummer in our hearts an
 d heads\, so don't stop the party!\n\nStart: 21.00\,\nEntrance: Ladies fre
 e\, Guys 10 pln / FB list till 11:30 pm.\nclub cards free / door selection
ATTACH;FMTTYPE=image/jpeg:https://night4u.pl/wp-content/uploads/2019/06/48
 946_image_64784035_2495066507205153_83975088902242304_o.jpg
CATEGORIES:łódzkie
LOCATION:Klub Czekolada Łódź\, Łódź\, Poland
GEO:51.769644;19.455797
X-APPLE-STRUCTURED-LOCATION;VALUE=URI;X-ADDRESS=Łódź\, Poland;X-APPLE-RA
 DIUS=100;X-TITLE=Klub Czekolada Łódź:geo:51.769644,19.455797
END:VEVENT
BEGIN:VTIMEZONE
TZID:Europe/Warsaw
X-LIC-LOCATION:Europe/Warsaw
BEGIN:DAYLIGHT
DTSTART:20190331T030000
TZOFFSETFROM:+0100
TZOFFSETTO:+0200
TZNAME:CEST
END:DAYLIGHT
END:VTIMEZONE
END:VCALENDAR