BEGIN:VCALENDAR
VERSION:2.0
PRODID:-//wp-events-plugin.com//7.2.3.1//EN
TZID:Europe/Warsaw
X-WR-TIMEZONE:Europe/Warsaw
BEGIN:VEVENT
UID:23901@night4u.pl
DTSTART;TZID=Europe/Warsaw:20190803T210000
DTEND;TZID=Europe/Warsaw:20190804T050000
DTSTAMP:20190802T113420Z
URL:https://night4u.pl/wydarzenia/dont-stop-the-party-sobota-3-08-do-2300-
 wstep-free/
SUMMARY:Don't stop the party - sobota 3.08 - do 23:00 wstęp free
DESCRIPTION:Don't stop the party - w sobotnią noc nie przestajemy nawet na
  chwilę\, a nasza impreza trwa bez końca! Imprezę poprowadzi gość spe
 cjalny  - DJ KØØLS\, który przygotował dla Was specjalny zestaw muzycz
 ny: house\, club\, radio hits.\n \nDO GODZ. 23:00 WSZYSCY WSTĘP FREE\npo 
 godz. 23:00 studenci wstęp 5 zł\, pozostali 10 zł\, selekcja 18+\n\nCze
 kamy na Was - startujemy o godz. 21:00 \n \nPODSUMOWUJĄC : \n☛   Data: 
 3.08 - SOBOTA\n☛   Godzina: 21:00 \n☛   Miejsce: Cina Club  \n \n W ch
 wili luzu przyda się Wam bezpłatna loża\nrezerwuj na ----->  www.emenag
 o.opole.pl
ATTACH;FMTTYPE=image/jpeg:https://night4u.pl/wp-content/uploads/2019/08/56
 370_image_67681767_2580764621987104_4883791730140250112_o.jpg
CATEGORIES:opolskie
LOCATION:Cina Club\, Katowicka 55\, Opole\, 45-061\, Poland
GEO:50.667448;17.93523
X-APPLE-STRUCTURED-LOCATION;VALUE=URI;X-ADDRESS=Katowicka 55\, Opole\, 45-0
 61\, Poland;X-APPLE-RADIUS=100;X-TITLE=Cina Club:geo:50.667448,17.93523
END:VEVENT
BEGIN:VTIMEZONE
TZID:Europe/Warsaw
X-LIC-LOCATION:Europe/Warsaw
BEGIN:DAYLIGHT
DTSTART:20190331T030000
TZOFFSETFROM:+0100
TZOFFSETTO:+0200
TZNAME:CEST
END:DAYLIGHT
END:VTIMEZONE
END:VCALENDAR