BEGIN:VCALENDAR
VERSION:2.0
PRODID:-//wp-events-plugin.com//7.2.3.1//EN
TZID:Europe/Warsaw
X-WR-TIMEZONE:Europe/Warsaw
BEGIN:VEVENT
UID:13813@night4u.pl
DTSTART;TZID=Europe/Warsaw:20190426T210000
DTEND;TZID=Europe/Warsaw:20190427T050000
DTSTAMP:20190425T215554Z
URL:https://night4u.pl/wydarzenia/dont-tell-your-boyfriend-26-04-panie-wst
 ep-za-darmo/
SUMMARY:Don't tell your boyfriend ! :: // 26.04 // Panie wstęp za darmo
DESCRIPTION:Piąteczek piątuniu  PANIE WCHODZĄ ZA FREE!!! (do 24:00)\n\nP
 owiadom swoją ekipę i wpadaj!\n\n\nSpecjalnie dla Was ?\n\n-50% na wszys
 tkie drinki z karty do 24:00 !!\n\n★ PROMOTIONS ★\n►2 x wódka 0\,5 
 l + 2 x napój 1 l = 120 zł !! \n►ponad 40 shotów w promocyjnej cenie 
 7-8 zł\n\n\n\n?MUZYKA\n♫☆ DJ Nefretetee ♫☆\n♫☆ Dj Nq ♫☆\n
 \nseats & tables & vip room / rezerwacje miejsc:\nAneta\ninfo@m7club.pl\n
 � +48 508 508 408
ATTACH;FMTTYPE=image/jpeg:https://night4u.pl/wp-content/uploads/2019/04/34
 640_image_58419831_2209028535823874_8255958343084933120_o.jpg
CATEGORIES:podlaskie
LOCATION:M7 CLUB\, Białystok\, Poland
GEO:53.133448;23.156648
X-APPLE-STRUCTURED-LOCATION;VALUE=URI;X-ADDRESS=Białystok\, Poland;X-APPLE
 -RADIUS=100;X-TITLE=M7 CLUB:geo:53.133448,23.156648
END:VEVENT
BEGIN:VTIMEZONE
TZID:Europe/Warsaw
X-LIC-LOCATION:Europe/Warsaw
BEGIN:DAYLIGHT
DTSTART:20190331T030000
TZOFFSETFROM:+0100
TZOFFSETTO:+0200
TZNAME:CEST
END:DAYLIGHT
END:VTIMEZONE
END:VCALENDAR