BEGIN:VCALENDAR
VERSION:2.0
PRODID:-//wp-events-plugin.com//7.2.3.1//EN
TZID:Europe/Warsaw
X-WR-TIMEZONE:Europe/Warsaw
BEGIN:VEVENT
UID:48657@night4u.pl
DTSTART;TZID=Europe/Warsaw:20200307T220000
DTEND;TZID=Europe/Warsaw:20200308T060000
DTSTAMP:20200331T140559Z
URL:https://night4u.pl/wydarzenia/dq-show-filodendron-monstera-7-03/
SUMMARY:DQ Show Filodendron Monstera | 7.03
DESCRIPTION:DQ Show\nNa scenie Filodendron Monstera / Wrocław/\nBawimy si
 ę oczywiście na dwóch salach. \n\nZagrają:\nT-Jay\nSerge Gainsbeats\n\
 n\n__________\nStart imprezy godzina 22:00\nWstęp: 10 zł \nDo godz. 24:0
 0 za okazaniem legitymacji uczniowskiej\, studenckiej wstęp free\nKarty k
 lubowe wstęp free przez całą noc\n________\n\nW celu bezpieczeństwa i 
 komfortu zabawy klub zastrzega sobie prawo do selekcji gości.\n\nClub Pap
 uga\nul. Dietla 64
ATTACH;FMTTYPE=image/jpeg:https://night4u.pl/wp-content/uploads/2020/02/16
 6287_image_87367162_488852655135299_3024198962602049536_o.jpg
CATEGORIES:małopolskie
LOCATION:Club Papuga\, Józefa Dietla 64\, Kraków\, 33-332\, Poland
GEO:50.054521;19.943522
X-APPLE-STRUCTURED-LOCATION;VALUE=URI;X-ADDRESS=Józefa Dietla 64\, Kraków
 \, 33-332\, Poland;X-APPLE-RADIUS=100;X-TITLE=Club Papuga:geo:50.054521,19
 .943522
END:VEVENT
BEGIN:VTIMEZONE
TZID:Europe/Warsaw
X-LIC-LOCATION:Europe/Warsaw
BEGIN:STANDARD
DTSTART:20191027T020000
TZOFFSETFROM:+0200
TZOFFSETTO:+0100
TZNAME:CET
END:STANDARD
END:VTIMEZONE
END:VCALENDAR