BEGIN:VCALENDAR
VERSION:2.0
PRODID:-//wp-events-plugin.com//7.2.3.1//EN
TZID:Europe/Warsaw
X-WR-TIMEZONE:Europe/Warsaw
BEGIN:VEVENT
UID:27486@night4u.pl
DTSTART;TZID=Europe/Warsaw:20190921T220000
DTEND;TZID=Europe/Warsaw:20190923T040000
DTSTAMP:20190914T110758Z
URL:https://night4u.pl/wydarzenia/drag-night-rihanna-night/
SUMMARY:Drag Night | Rihanna Night
DESCRIPTION:???? KOCHANI ????\n\nW sobotę 21/09/2019 o 22:00 zapraszamy na
  kolejną edycję DRAG NIGHT tym razem pobawimy się przy największych hi
 tach Rihanny:)\nBądźcie gotowi :)\n\nWystąpią:\n❗Filodendron Monster
 a❗Rita Ute❗Amba Fatima❗Kamila Kebaba ❗Ka Katharsis ❗ Aura Rain \
 n Poprowadzi dla was Lady Kanclerzowa\n\n???a o muzyczną selekcję zadba 
 DJ BARK\n\nTAX: 10 PLN
ATTACH;FMTTYPE=image/jpeg:https://night4u.pl/wp-content/uploads/2019/09/63
 995_image_69575462_2505440562851212_821527948375883776_o.jpg
CATEGORIES:dolnośląskie
LOCATION:CoffeePlanet Wrocław\, Rynek 7\, Wroclaw\, 50-106\, Poland
GEO:51.1102;17.03022
X-APPLE-STRUCTURED-LOCATION;VALUE=URI;X-ADDRESS=Rynek 7\, Wroclaw\, 50-106\
 , Poland;X-APPLE-RADIUS=100;X-TITLE=CoffeePlanet Wrocław:geo:51.1102,17.0
 3022
END:VEVENT
BEGIN:VTIMEZONE
TZID:Europe/Warsaw
X-LIC-LOCATION:Europe/Warsaw
BEGIN:DAYLIGHT
DTSTART:20190331T030000
TZOFFSETFROM:+0100
TZOFFSETTO:+0200
TZNAME:CEST
END:DAYLIGHT
END:VTIMEZONE
END:VCALENDAR