BEGIN:VCALENDAR
VERSION:2.0
PRODID:-//wp-events-plugin.com//7.2.3.1//EN
TZID:Europe/Warsaw
X-WR-TIMEZONE:Europe/Warsaw
BEGIN:VEVENT
UID:37251@night4u.pl
DTSTART;TZID=Europe/Warsaw:20191205T200000
DTEND;TZID=Europe/Warsaw:20191205T230000
DTSTAMP:20191205T154800Z
URL:https://night4u.pl/wydarzenia/drgree-wroclaw-klub-alive/
SUMMARY:DrGree - Wrocław - Klub Alive
DESCRIPTION:DrGree w swoich utworach opowiada niesamowite historie\, które
  osadzone są w stylu czarnego humoru\, a wszystko to muzycznie otulone po
 łączeniem dobrego rytmicznego rocka\, folku\, ska i reggae. DrGree mówi
  o rzeczach\, które mogły by się zdarzyć lub już się przydarzyły. O
 dkrywa duszę wprowadzając jeszcze głębiej do świata pełnego czarnych
  pozytywów. DrGree gwarantuje przeżycia i emocje\, oddalenie się od św
 iata rzeczywistego jednocześnie opowiadając o nim.\n\nWejście od godzin
 y 19.00 \nStart godzina 20.00\nBilety - 10 zł
ATTACH;FMTTYPE=image/jpeg:https://night4u.pl/wp-content/uploads/2019/11/10
 2684_image_77062505_2710925472280195_8344440888495177728_n.jpg
CATEGORIES:dolnośląskie
LOCATION:Alive\, ul. Kolejowa 12\, Wroclaw\, 53-508\, Poland
GEO:51.10138;17.02286
X-APPLE-STRUCTURED-LOCATION;VALUE=URI;X-ADDRESS=ul. Kolejowa 12\, Wroclaw\,
  53-508\, Poland;X-APPLE-RADIUS=100;X-TITLE=Alive:geo:51.10138,17.02286
END:VEVENT
BEGIN:VTIMEZONE
TZID:Europe/Warsaw
X-LIC-LOCATION:Europe/Warsaw
BEGIN:STANDARD
DTSTART:20191027T020000
TZOFFSETFROM:+0200
TZOFFSETTO:+0100
TZNAME:CET
END:STANDARD
END:VTIMEZONE
END:VCALENDAR