BEGIN:VCALENDAR
VERSION:2.0
PRODID:-//wp-events-plugin.com//7.2.3.1//EN
TZID:Europe/Warsaw
X-WR-TIMEZONE:Europe/Warsaw
BEGIN:VEVENT
UID:37160@night4u.pl
DTSTART;TZID=Europe/Warsaw:20191205T180000
DTEND;TZID=Europe/Warsaw:20191205T200000
DTSTAMP:20200401T082031Z
URL:https://night4u.pl/wydarzenia/drink-draw-2/
SUMMARY:Drink &amp\; Draw #2
DESCRIPTION:Do you like to draw?\nDon’t know how to draw?\nCome\, take a 
 sip and join us anyway!\n\nA social gathering event for drinking\, drawing
 \, socialization and the bonus opportunity to exercise your english skills
 . Open for everyone with or without experience. We provide the materials\,
  but you are also welcomed to bring your own. Expect a good environment\, 
 creative games\, challenges and a lot of doodles! As we have limited space
  you are kindly invited to enroll before.\n\nEVENT IN ENGLISH\n\nEntrance:
  FREE Enroll at: sekretariat@zamek.wroclaw.pl\n\nThe event will be moderat
 ed by Joana Pacheco\, a fine art graduated student from Portugal\, coming 
 from Matera (Italy)\, the European Capital of Culture 2019\, were she was 
 working earlier this year\, to Poland\, now a volunteer in Centrum Kultury
  Zamek.\n__________________\n\nLubisz rysować?\nNie wiesz jak rysować?\n
 Przyjdź\, weź łyk i dołącz do nas! \n\nSpotkanie towarzyskie w celu w
 spólnego popijania kawy\, rysowania i zawierania nowych znajomości poł
 ączone z okazją by poćwiczyć swoje umiejętności angielskiego. Otwart
 e dla wszystkich\, zarówno z doświadczeniem\, jak i go nie podsiadający
 ch. Zapewniamy materiały\, ale możesz też pracować na swoich własnych
 . Możecie się spodziewać dobrego klimatu\, zabaw kreatywnych i wyzwań 
 oraz dużo wspólnej bazgraniny. \n\nPonieważ mamy ograniczone miejsca\, 
 to zapraszamy do wcześniejszych zapisów. \n\nSpotkanie jest prowadzone w
  języku angielskim. \n\nZapisy: sekretariat@zamek.wroclaw.pl / WSTĘP WOL
 NY\n\nSpotkanie będzie moderowane przez Joanę Pacheco\, absolwentkę wyd
 ziału sztuk pięknych ASP w Porto w Portugalii. Przybyła do Centrum Kult
 ury "Zamek" z Matery we Włoszech\, gdzie pracowała przy Europejskiej Sto
 licy Kultury 2019.
ATTACH;FMTTYPE=image/jpeg:https://night4u.pl/wp-content/uploads/2019/11/10
 2455_image_76958035_10157823039213851_4228428094987304960_o.jpg
CATEGORIES:dolnośląskie
LOCATION:Nietota\, ul.Kazimierza Wielkiego 50\, Wroclaw\, 50-078\, Poland
GEO:51.107699;17.031693
X-APPLE-STRUCTURED-LOCATION;VALUE=URI;X-ADDRESS=ul.Kazimierza Wielkiego 50\
 , Wroclaw\, 50-078\, Poland;X-APPLE-RADIUS=100;X-TITLE=Nietota:geo:51.1076
 99,17.031693
END:VEVENT
BEGIN:VTIMEZONE
TZID:Europe/Warsaw
X-LIC-LOCATION:Europe/Warsaw
BEGIN:STANDARD
DTSTART:20191027T020000
TZOFFSETFROM:+0200
TZOFFSETTO:+0100
TZNAME:CET
END:STANDARD
END:VTIMEZONE
END:VCALENDAR