BEGIN:VCALENDAR
VERSION:2.0
PRODID:-//wp-events-plugin.com//7.2.3.1//EN
TZID:Europe/Warsaw
X-WR-TIMEZONE:Europe/Warsaw
BEGIN:VEVENT
UID:51265@night4u.pl
DTSTART;TZID=Europe/Warsaw:20210904T220000
DTEND;TZID=Europe/Warsaw:20210905T050000
DTSTAMP:20210827T140001Z
URL:https://night4u.pl/wydarzenia/drip-for-the-cvlture-esda-6th-bday/
SUMMARY:DRIP FOR THE CVLTURE - ESDA 6th B'DAY!
DESCRIPTION:CURATED by Vin Milton\n\nInfo:\nGruba okazja do grubego melanż
 u - 6. urodziny East Side Dance Academy.\nJeśli kochasz taniec i wszystko
  co z nim związane MUSISZ BYĆ Z NAMI!\n\nZapraszamy serdecznie wszystkic
 h na najbardziej slime’ową imprezę na mieście.\nDRIP FOR THE CVLTURE 
 jest to impreza dla pozytywnie nastawionych do High Fashion i wszystkich f
 anów amerykańskiego Trapu.\nNie chcecie tego przegapić.\nTa impreza dł
 ugo pozostanie w naszej pamięci!\n\nZagrają:\nDJ Praktyczna Pani / DJ Tr
 ycollins / DJ Nick\n\nBilety: 20 pln\nSzatnia: --> FREE\nLista FB: 22.00 
 – 23.00 wejście FREE !!!\n\n*******************************************
 \n\nCURATED by Vin Milton \n\nInfo:\nEast Side Dance Academy's 6th B'day! 
 If you love to dance this party is just for you! It's going to be unforget
 table night. Can't miss it!\n\nWe would like to invite you to the most sli
 me party in the city.\nDRIP FOR THE CVLTURE is an event for the positive a
 ttitude towards High Fashion and all fans of Hip Hop & Trap music.\nYou do
 n't want to miss it.\nThis event will remain in our memory for a long time
 !\n\nDJs:\nDJ Praktyczna Pani / DJ Trycollins / DJ Nick \n\nTickets: 20 PL
 N\nCloakroom: -> FREE\nFB list: 22.00 – 23.00 entry for FREE !!!
ATTACH;FMTTYPE=image/jpeg:https://night4u.pl/wp-content/uploads/2021/08/18
 6773_image_236166892_2976233069359439_3945949669218696285_n.jpg
CATEGORIES:mazowieckie
LOCATION:N58 Club\, ul. Nowy Świat 58\, Warsaw\, 00-363\, Poland
GEO:52.235367;21.018564
X-APPLE-STRUCTURED-LOCATION;VALUE=URI;X-ADDRESS=ul. Nowy Świat 58\, Warsaw
 \, 00-363\, Poland;X-APPLE-RADIUS=100;X-TITLE=N58 Club:geo:52.235367,21.01
 8564
END:VEVENT
BEGIN:VTIMEZONE
TZID:Europe/Warsaw
X-LIC-LOCATION:Europe/Warsaw
BEGIN:DAYLIGHT
DTSTART:20210328T030000
TZOFFSETFROM:+0100
TZOFFSETTO:+0200
TZNAME:CEST
END:DAYLIGHT
END:VTIMEZONE
END:VCALENDAR