BEGIN:VCALENDAR
VERSION:2.0
PRODID:-//wp-events-plugin.com//7.2.3.1//EN
TZID:Europe/Warsaw
X-WR-TIMEZONE:Europe/Warsaw
BEGIN:VEVENT
UID:46201@night4u.pl
DTSTART;TZID=Europe/Warsaw:20200418T220000
DTEND;TZID=Europe/Warsaw:20200419T050000
DTSTAMP:20200403T051919Z
URL:https://night4u.pl/wydarzenia/drumbass-night-lista-fb-szpitalna1/
SUMMARY:Drum&amp\;Bass Night [LISTA FB] | Szpitalna1
DESCRIPTION:Drum&amp\;Bass Night z pierwszą wizytą w Krakowie!\n\nLINE UP
 :\n\n- WaxVax [NeverAfter / Audioriver]\n- Detoxic [Breaky Vibes / Sfinks7
 00]\n- The Inflamers [Tesseract / Breaky Vibes]\n- Snake [Pralnia Elektron
 iczna]\n- BXN [Komora Basowa]\n- Kayzet \n\nMuzyka: Neurofunk / Deep / Liq
 uid \n\nLISTA FB 10 PLN / POZOSTALI 20 PLN\n\nwww.facebook.com/BreakyVibes
 \n\nul. Szpitalna1\, Kraków
ATTACH;FMTTYPE=image/jpeg:https://night4u.pl/wp-content/uploads/2020/02/15
 1496_image_83812970_1497334833762807_3151002610681511936_o.jpg
CATEGORIES:małopolskie
LOCATION:Szpitalna 1\, Szpitalna 1\, Kraków\, 31-041\, Poland
GEO:50.06186;19.94065
X-APPLE-STRUCTURED-LOCATION;VALUE=URI;X-ADDRESS=Szpitalna 1\, Kraków\, 31-
 041\, Poland;X-APPLE-RADIUS=100;X-TITLE=Szpitalna 1:geo:50.06186,19.94065
END:VEVENT
BEGIN:VTIMEZONE
TZID:Europe/Warsaw
X-LIC-LOCATION:Europe/Warsaw
BEGIN:DAYLIGHT
DTSTART:20200329T030000
TZOFFSETFROM:+0100
TZOFFSETTO:+0200
TZNAME:CEST
END:DAYLIGHT
END:VTIMEZONE
END:VCALENDAR