BEGIN:VCALENDAR
VERSION:2.0
PRODID:-//wp-events-plugin.com//7.2.3.1//EN
TZID:Europe/Warsaw
X-WR-TIMEZONE:Europe/Warsaw
BEGIN:VEVENT
UID:19394@night4u.pl
DTSTART;TZID=Europe/Warsaw:20190615T210000
DTEND;TZID=Europe/Warsaw:20190616T050000
DTSTAMP:20190614T195401Z
URL:https://night4u.pl/wydarzenia/drumntech-session/
SUMMARY:Drum'n'Tech Session
DESCRIPTION:Tej nocy zaserwujemy 2 gatunki elektroniki - drum'n'bass i tech
 no. Zagramy składem siedlecko-lubelskim w nowej przestrzeni (ale pod star
 ą dobrą aurą) na imprezowej mapie Lublina. Dobry klimat i gruby balet g
 warantowany!\n\nDJs: \nmph dnb\nGTrix\nDominick K Bacinski\nKoradebu\n\nws
 tęp: 5 PLN\n\nmiejsce: Cafe Lulu - Jasna 7
ATTACH;FMTTYPE=image/jpeg:https://night4u.pl/wp-content/uploads/2019/06/46
 752_image_62253517_2909366495800113_281763143246413824_o.jpg
CATEGORIES:lubelskie
LOCATION:Cafe Lulu\, Jasna 7/3\, Lublin\, 20-077\, Poland
GEO:51.244666;22.555802
X-APPLE-STRUCTURED-LOCATION;VALUE=URI;X-ADDRESS=Jasna 7/3\, Lublin\, 20-077
 \, Poland;X-APPLE-RADIUS=100;X-TITLE=Cafe Lulu:geo:51.244666,22.555802
END:VEVENT
BEGIN:VTIMEZONE
TZID:Europe/Warsaw
X-LIC-LOCATION:Europe/Warsaw
BEGIN:DAYLIGHT
DTSTART:20190331T030000
TZOFFSETFROM:+0100
TZOFFSETTO:+0200
TZNAME:CEST
END:DAYLIGHT
END:VTIMEZONE
END:VCALENDAR