BEGIN:VCALENDAR
VERSION:2.0
PRODID:-//wp-events-plugin.com//7.2.3.1//EN
TZID:Europe/Warsaw
X-WR-TIMEZONE:Europe/Warsaw
BEGIN:VEVENT
UID:14516@night4u.pl
DTSTART;TZID=Europe/Warsaw:20190518T220000
DTEND;TZID=Europe/Warsaw:20190519T050000
DTSTAMP:20190430T144427Z
URL:https://night4u.pl/wydarzenia/dual-force-records-showcase/
SUMMARY:Dual Force Records Showcase
DESCRIPTION:18 Maja Dual Force Records zaprasza was na swoje kolejne wydarz
 enie w Elefunk The Club gdzie gościnnie wystąpi doskonale wszystkim znan
 y weteran szczecińskiej kultury techno Chris da break\, ekipa Dual Force 
 oraz specjalny gość z Berlina: SeKtør\n\nScena Techno:\nChris Da Break 
 (Neuroshocked Recordings)\nPeter Fern (Naked Lunch/Dolma/Eclipse Recording
 s)\nMax Tresher (De-Noize/Dual Force Records)\nDastin (IAMT/Dual Force Rec
 ords)\nDark Skyline (Dual Force Records)\nSpecial Guest: SeKtør (Berlin)\
 n\nScena House:\nKonrad Kacak (Deepersense/Szczecin)\nJR (Szczecin)\nJ&P (
 Szczecin)\n\n#Techno #House
ATTACH;FMTTYPE=image/jpeg:https://night4u.pl/wp-content/uploads/2019/04/36
 113_image_57000743_2410755052276276_1515494981513510912_o.jpg
CATEGORIES:zachodniopomorskie
LOCATION:Elefunk The Club\, pl. Żołnierza Polskiego 2\, Szczecin\, 70-551
 \, Poland
GEO:53.42819;14.55416
X-APPLE-STRUCTURED-LOCATION;VALUE=URI;X-ADDRESS=pl. Żołnierza Polskiego 2
 \, Szczecin\, 70-551\, Poland;X-APPLE-RADIUS=100;X-TITLE=Elefunk The Club:
 geo:53.42819,14.55416
END:VEVENT
BEGIN:VTIMEZONE
TZID:Europe/Warsaw
X-LIC-LOCATION:Europe/Warsaw
BEGIN:DAYLIGHT
DTSTART:20190331T030000
TZOFFSETFROM:+0100
TZOFFSETTO:+0200
TZNAME:CEST
END:DAYLIGHT
END:VTIMEZONE
END:VCALENDAR