BEGIN:VCALENDAR
VERSION:2.0
PRODID:-//wp-events-plugin.com//7.2.3.1//EN
TZID:Europe/Warsaw
X-WR-TIMEZONE:Europe/Warsaw
BEGIN:VEVENT
UID:27532@night4u.pl
DTSTART;TZID=Europe/Warsaw:20191004T230000
DTEND;TZID=Europe/Warsaw:20191005T100000
DTSTAMP:20190914T111222Z
URL:https://night4u.pl/wydarzenia/duel-w-perc-%e2%9d%9a-sept-%e2%9d%9a-sie
 nn-%e2%9d%9a-macewicz-x-lowcy/
SUMMARY:DUEL /w PERC ❚ Sept ❚ Sienn ❚ Macewicz x Łowcy
DESCRIPTION:Pierwszy pojedynek we Wrocławiu. \nBędzie szybko i surowo. \n
 \n⚔️ Line-up ⚔️:\n\n- Perc (Perc Trax / Stroboscopic Artefacts) ??
 \n- Sept (Voxnox Records / DUEL) ??\n- Sienn (DUEL) ??\n- Michał Macewicz
  (SLAP) ??\n\n\n⚔️ Artwork:\n- Adyszk (Visual Family Collective)\n\nSt
 art: 23:00\nEnd: 10:00\n\n-Duel Your Musical Boundaries-\n\nImprezę wspie
 rają ŁOWCY\n\n_______________________________\ntax: 45pln / 20pln after 
 6am\n_______________________________\nrules:\nno pre-sale\nbe kind to your
  neighbours\ndoorman has the final say\nno photos on the dancefloor\n#noli
 metangere
ATTACH;FMTTYPE=image/jpeg:https://night4u.pl/wp-content/uploads/2019/09/64
 089_image_69850175_526353114801621_6042126701721288704_o.jpg
CATEGORIES:dolnośląskie
LOCATION:Ciało\, Świdnicka 12\, Wroclaw\, 50-068\, Poland
GEO:51.106907;17.032125
X-APPLE-STRUCTURED-LOCATION;VALUE=URI;X-ADDRESS=Świdnicka 12\, Wroclaw\, 5
 0-068\, Poland;X-APPLE-RADIUS=100;X-TITLE=Ciało:geo:51.106907,17.032125
END:VEVENT
BEGIN:VTIMEZONE
TZID:Europe/Warsaw
X-LIC-LOCATION:Europe/Warsaw
BEGIN:DAYLIGHT
DTSTART:20190331T030000
TZOFFSETFROM:+0100
TZOFFSETTO:+0200
TZNAME:CEST
END:DAYLIGHT
END:VTIMEZONE
END:VCALENDAR