BEGIN:VCALENDAR
VERSION:2.0
PRODID:-//wp-events-plugin.com//7.2.3.1//EN
TZID:Europe/Warsaw
X-WR-TIMEZONE:Europe/Warsaw
BEGIN:VEVENT
UID:40677@night4u.pl
DTSTART;TZID=Europe/Warsaw:20200307T200000
DTEND;TZID=Europe/Warsaw:20200307T230000
DTSTAMP:20200331T140708Z
URL:https://night4u.pl/wydarzenia/dwa-slawy-poznan-pokolenie-x2-koncert-pr
 emierowy/
SUMMARY:SOLD OUT! Dwa Sławy / Poznań / "Pokolenie X2" koncert premierowy
DESCRIPTION:KONCERY WYPRZEDANY\n\nSławy znowu na fizyku\, jak Skłodowska-
 Curie. To jest Pokolenie X2. X 2. Prosta matematyka. Przesłuchałaś dwa 
 razy\, to nie przesłuchałeś wcale. Metryka do kosza\, Pokolenie X2 do o
 dtwarzacza.\n\nJuż 7 marca zapraszamy na premierowy koncert\, promujący 
 nasz nowy album "Pokolenie X2". Do zobaczenia! \n\nHarmonogram:\n20:00 - o
 twarcie drzwi\n20:45 - Eternal Now (Vinci &amp\; Skays)\n21:15 - Drozda\n2
 2:00 - Dwa Sławy\n\nDwa Sławy\nSupport: Drozda\, Eternal Now (Ej Vinci &
 amp\; Skays)\n🗓7.03.2020 g. 20:00\n📌Poznań / Klub u Bazyla\n\n🔈"
 Co ludzie powiedzą?" - https://www.youtube.com/watch?v=q_QWfuu_9LE
ATTACH;FMTTYPE=image/jpeg:https://night4u.pl/wp-content/uploads/2020/02/12
 3826_image_87388272_2790998307655261_3342286375142555648_o.jpg
CATEGORIES:wielkopolskie
LOCATION:Klub u Bazyla\, ul. Norwida 18A\, Poznan\, 60-867\, Poland
GEO:52.416733;16.911755
X-APPLE-STRUCTURED-LOCATION;VALUE=URI;X-ADDRESS=ul. Norwida 18A\, Poznan\, 
 60-867\, Poland;X-APPLE-RADIUS=100;X-TITLE=Klub u Bazyla:geo:52.416733,16.
 911755
END:VEVENT
BEGIN:VTIMEZONE
TZID:Europe/Warsaw
X-LIC-LOCATION:Europe/Warsaw
BEGIN:STANDARD
DTSTART:20191027T020000
TZOFFSETFROM:+0200
TZOFFSETTO:+0100
TZNAME:CET
END:STANDARD
END:VTIMEZONE
END:VCALENDAR