BEGIN:VCALENDAR
VERSION:2.0
PRODID:-//wp-events-plugin.com//7.2.3.1//EN
TZID:Europe/Warsaw
X-WR-TIMEZONE:Europe/Warsaw
BEGIN:VEVENT
UID:42405@night4u.pl
DTSTART;TZID=Europe/Warsaw:20200111T220000
DTEND;TZID=Europe/Warsaw:20200112T050000
DTSTAMP:20200331T192827Z
URL:https://night4u.pl/wydarzenia/dyskoteka-g-r-a-klubowa-sobota-w-lodzi-3
 /
SUMMARY:Dyskoteka G.R.A | Klubowa sobota w Łodzi
DESCRIPTION:Gra czy nie gra?\nPrzekonajcie się sami w każdą sobotę ✌
 ️\n\nStart: 22:00\nSala główna: Disco &amp\; Pop &amp\; Dance 80s-10s 
 \nMała sala: Legendarne Polskie Przeboje \nWstęp[21+]: 10 PLN do 23 / 15
  PLN po 23\nZaproszenia &amp\; Karty VIP: FREE całą noc\n\nInfo &amp\; R
 ezerwacje online:\n☎️ 666 020 100\nhttps://prywatkaklub.pl/rezerwacje
ATTACH;FMTTYPE=image/jpeg:https://night4u.pl/wp-content/uploads/2020/01/13
 3507_image_81432204_582887699161053_7902757030278987776_o.jpg
CATEGORIES:łódzkie
LOCATION:Prywatka\, Andrzeja Struga 8/10\, Łódź\, 90-426\, Poland
GEO:51.765118;19.455113
X-APPLE-STRUCTURED-LOCATION;VALUE=URI;X-ADDRESS=Andrzeja Struga 8/10\, Łó
 dź\, 90-426\, Poland;X-APPLE-RADIUS=100;X-TITLE=Prywatka:geo:51.765118,19
 .455113
END:VEVENT
BEGIN:VTIMEZONE
TZID:Europe/Warsaw
X-LIC-LOCATION:Europe/Warsaw
BEGIN:STANDARD
DTSTART:20191027T020000
TZOFFSETFROM:+0200
TZOFFSETTO:+0100
TZNAME:CET
END:STANDARD
END:VTIMEZONE
END:VCALENDAR