BEGIN:VCALENDAR
VERSION:2.0
PRODID:-//wp-events-plugin.com//7.2.3.1//EN
TZID:Europe/Warsaw
X-WR-TIMEZONE:Europe/Warsaw
BEGIN:VEVENT
UID:18960@night4u.pl
DTSTART;TZID=Europe/Warsaw:20190614T210000
DTEND;TZID=Europe/Warsaw:20190615T060000
DTSTAMP:20190611T180509Z
URL:https://night4u.pl/wydarzenia/dyskoteka-gra-14-06-do-2300-lista-fb-fre
 e/
SUMMARY:Dyskoteka Gra // 14.06 // Do 23:00 lista FB free
DESCRIPTION:Spieszmy się kochać piąteczki\, tak szybko przemijają. Ale 
 zanim to nastąpi sprawimy\, że zapamiętasz ten dzień na dłuuugo. \n\n
 Jedno jest pewne - nie spędzaj soboty w domu! Najlepsza prywatka czeka na
  Was oczywiście na Hempla 5 w Berecie!\n\n-------------------------------
 -----------------\n➡️Start 21:00\nDo 23:00 - LISTA FB FREE\nOd 23:00 -
  24:00 - 10 PLN\nPo 24.00 - 15 PLN\n\nBilet wstępu obowiązuje do lokali:
 \nHelium Club\nRzut Beretem\nEl Cubano\nRIVIERA\n\nseats & tables/ rezerwa
 cje stolików\n☎️: 725700205 (wt-sob. 17:00-20:00)\nWejście 18+ / DOO
 R SELECTION\n-------------------------------------------------
ATTACH;FMTTYPE=image/jpeg:https://night4u.pl/wp-content/uploads/2019/06/45
 861_image_62632800_1819790374834503_5521231384435228672_o.jpg
CATEGORIES:lubelskie
LOCATION:Rzut Beretem\, Hempla 5\, Lublin\, 20-008\, Poland
GEO:51.245421;22.557279
X-APPLE-STRUCTURED-LOCATION;VALUE=URI;X-ADDRESS=Hempla 5\, Lublin\, 20-008\
 , Poland;X-APPLE-RADIUS=100;X-TITLE=Rzut Beretem:geo:51.245421,22.557279
END:VEVENT
BEGIN:VTIMEZONE
TZID:Europe/Warsaw
X-LIC-LOCATION:Europe/Warsaw
BEGIN:DAYLIGHT
DTSTART:20190331T030000
TZOFFSETFROM:+0100
TZOFFSETTO:+0200
TZNAME:CEST
END:DAYLIGHT
END:VTIMEZONE
END:VCALENDAR