BEGIN:VCALENDAR
VERSION:2.0
PRODID:-//wp-events-plugin.com//7.2.3.1//EN
TZID:Europe/Warsaw
X-WR-TIMEZONE:Europe/Warsaw
BEGIN:VEVENT
UID:16148@night4u.pl
DTSTART;TZID=Europe/Warsaw:20190531T220000
DTEND;TZID=Europe/Warsaw:20190601T050000
DTSTAMP:20190514T213737Z
URL:https://night4u.pl/wydarzenia/dyskoteka-pana-marka-pop-rnb-rap-polska-
 muzyka/
SUMMARY:DYSKOTEKA Pana Marka! pop/rnb/rap/polska muzyka
DESCRIPTION:Zapraszamy na szaloną DYSKOTEKĄ\, którą poprowadzi nasz zio
 mal RYCAK! \nWszystkie najlepsze hity\, w rytmie lat 80 i 90 oraz oczywiś
 cie największe przeboje współczesne! \n\npop/disco/rnb/rap/polska muzyk
 a\n\n\nstart 22 / fb free do 23/ 10/15zł\n\n@ REZERWACJE @\nWszystkie inf
 ormacje dotyczące rezerwacji:\n601-552-013\nagata.mietelska@dklublin.pl
ATTACH;FMTTYPE=image/jpeg:https://night4u.pl/wp-content/uploads/2019/05/39
 575_image_60276876_2367970276602262_3958402156763021312_o.jpg
CATEGORIES:lubelskie
LOCATION:Dom Kultury\, ul. Krakowskie Przedmieście 19\, Lublin\, 20-002\, 
 Poland
GEO:51.24787;22.56342
X-APPLE-STRUCTURED-LOCATION;VALUE=URI;X-ADDRESS=ul. Krakowskie Przedmieści
 e 19\, Lublin\, 20-002\, Poland;X-APPLE-RADIUS=100;X-TITLE=Dom Kultury:geo
 :51.24787,22.56342
END:VEVENT
BEGIN:VTIMEZONE
TZID:Europe/Warsaw
X-LIC-LOCATION:Europe/Warsaw
BEGIN:DAYLIGHT
DTSTART:20190331T030000
TZOFFSETFROM:+0100
TZOFFSETTO:+0200
TZNAME:CEST
END:DAYLIGHT
END:VTIMEZONE
END:VCALENDAR