BEGIN:VCALENDAR
VERSION:2.0
PRODID:-//wp-events-plugin.com//7.2.3.1//EN
TZID:Europe/Warsaw
X-WR-TIMEZONE:Europe/Warsaw
BEGIN:VEVENT
UID:29649@night4u.pl
DTSTART;TZID=Europe/Warsaw:20191031T220000
DTEND;TZID=Europe/Warsaw:20191101T040000
DTSTAMP:20191031T053907Z
URL:https://night4u.pl/wydarzenia/dyskoteka-szkolna-dj-ristoff-31-10-2019/
SUMMARY:Halloween Night // DJ Younger // 31.10.2019
DESCRIPTION:Już 31 października odbędzie się impreza podczas której dr
 eszczyk emocji będzie towarzyszyć Wam na każdym kroku! \n\nCukierek alb
 o psikus!\n\nStart: 22:00\nWstęp: 18+ // 10 PLN / Lista FB: free\n\nRezer
 wacje: \nDominika: + 48 505 725 060 / d.pisanko@choiceclub.pl \n\nKlub Cho
 ice zastrzega sobie prawo do selekcji Gości.
ATTACH;FMTTYPE=image/jpeg:https://night4u.pl/wp-content/uploads/2019/10/68
 419_image_73077698_1696900267109892_799133387599118336_o.jpg
CATEGORIES:małopolskie
LOCATION:Choice Club\, Floriańska 15\, Kraków\, 31-019\, Poland
GEO:50.06271;19.93987
X-APPLE-STRUCTURED-LOCATION;VALUE=URI;X-ADDRESS=Floriańska 15\, Kraków\, 
 31-019\, Poland;X-APPLE-RADIUS=100;X-TITLE=Choice Club:geo:50.06271,19.939
 87
END:VEVENT
BEGIN:VTIMEZONE
TZID:Europe/Warsaw
X-LIC-LOCATION:Europe/Warsaw
BEGIN:STANDARD
DTSTART:20191027T020000
TZOFFSETFROM:+0200
TZOFFSETTO:+0100
TZNAME:CET
END:STANDARD
END:VTIMEZONE
END:VCALENDAR