BEGIN:VCALENDAR
VERSION:2.0
PRODID:-//wp-events-plugin.com//7.2.3.1//EN
TZID:Europe/Warsaw
X-WR-TIMEZONE:Europe/Warsaw
BEGIN:VEVENT
UID:27485@night4u.pl
DTSTART;TZID=Europe/Warsaw:20190914T220000
DTEND;TZID=Europe/Warsaw:20190915T043000
DTSTAMP:20190914T110757Z
URL:https://night4u.pl/wydarzenia/dyskoteka-szkolna-vol2-filodendron-monst
 era/
SUMMARY:Dyskoteka Szkolna vol2 |Filodendron Monstera
DESCRIPTION:Po sukcesie pierwszej dyskoteki szkolnej w coffee postanowiliś
 my że nasi uczniowie zasługują na kolejna porcje dobrej zabawy :) \n\nW
  sobotę 14 września  w naszej  Coffee Planetowej „stołówce szkolnej 
 „ odbędzie się dyskoteka dla wszystkich chętnych uczniów :). \nZabaw
 a rozpocznie się o godzinie 22:00. Organizacją imprezy zajął się Samo
 rząd Szkolny wraz z opiekunką\, panią Filodendron Monstera. Pani sama z
 adba o repertuar muzyczny\, ale każdy z uczestników będzie mógł przyn
 ieść swoje ulubione utwory. Mamy nadzieję\, że Nasi uczniowie szybko o
 ddadzą się tanecznym pląsom i do domu  będą wracali z uśmiechem na t
 warzy  :)\n\nWybierzemy króla i królową balu :)
ATTACH;FMTTYPE=image/jpeg:https://night4u.pl/wp-content/uploads/2019/09/63
 993_image_69590863_2505460732849195_5867068683754405888_o.jpg
CATEGORIES:dolnośląskie
LOCATION:CoffeePlanet Wrocław\, Rynek 7\, Wroclaw\, 50-106\, Poland
GEO:51.1102;17.03022
X-APPLE-STRUCTURED-LOCATION;VALUE=URI;X-ADDRESS=Rynek 7\, Wroclaw\, 50-106\
 , Poland;X-APPLE-RADIUS=100;X-TITLE=CoffeePlanet Wrocław:geo:51.1102,17.0
 3022
END:VEVENT
BEGIN:VTIMEZONE
TZID:Europe/Warsaw
X-LIC-LOCATION:Europe/Warsaw
BEGIN:DAYLIGHT
DTSTART:20190331T030000
TZOFFSETFROM:+0100
TZOFFSETTO:+0200
TZNAME:CEST
END:DAYLIGHT
END:VTIMEZONE
END:VCALENDAR