BEGIN:VCALENDAR
VERSION:2.0
PRODID:-//wp-events-plugin.com//7.2.3.1//EN
TZID:Europe/Warsaw
X-WR-TIMEZONE:Europe/Warsaw
BEGIN:VEVENT
UID:40387@night4u.pl
DTSTART;TZID=Europe/Warsaw:20200131T200000
DTEND;TZID=Europe/Warsaw:20200131T220000
DTSTAMP:20200131T191423Z
URL:https://night4u.pl/wydarzenia/dzaman-koncert-31-01-mielec/
SUMMARY:Dżaman / Koncert / 31.01 / Mielec
DESCRIPTION:EP - Początek\nSpotify: https://open.spotify.com/album/2h2qcbF
 EaRihbLA1JJWoCi\nTidal: https://tidal.com/browse/album/109518787\nBandCamp
 : https://dzaman.bandcamp.com/\n\nAnother Time: https://www.youtube.com/wa
 tch?v=pkQYvJBdsPI\nAnother Time (Live): https://www.youtube.com/watch?v=l9
 ToCQCr-RM\nMoments (Acoustic Live): https://www.facebook.com/watch/?v=7642
 69990668407\nShanw Mendez Cover: https://www.youtube.com/watch?v=5vYlM9FVE
 OI\n\n31 stycznia\, piątek\, godz: 20:00\n\nDżaman - Songwriter\, wokali
 sta z mocnym i wyrazistym głosem\, looping artist\, one-man band. Weź kl
 imat Finka\, loopowanie Eda Sheerana\, wrażliwość Bena Howarda oraz odr
 obinę mroczności Toola i znajdziesz się w połowie muzycznej drogi Dża
 mana. Drugą połowę poznasz na koncertach…\nPodczas swoich występów 
 gra na gitarze akustycznej oraz śpiewa aranżując muzykę na żywo za po
 mocą loop station\, syntezatora basowego czy też elektronicznego smyczka
  tzw. e-bow. \n\nBilety: 15/20 zł
ATTACH;FMTTYPE=image/jpeg:https://night4u.pl/wp-content/uploads/2019/12/12
 1957_image_79430809_1568105556662616_837413348776607744_o.jpg
CATEGORIES:podkarpackie
LOCATION:Klub Studio 8 Mielec\, Pułaskiego 2A\, Mielec\, 39-300\, Poland
GEO:50.29205;21.43538
X-APPLE-STRUCTURED-LOCATION;VALUE=URI;X-ADDRESS=Pułaskiego 2A\, Mielec\, 3
 9-300\, Poland;X-APPLE-RADIUS=100;X-TITLE=Klub Studio 8 Mielec:geo:50.2920
 5,21.43538
END:VEVENT
BEGIN:VTIMEZONE
TZID:Europe/Warsaw
X-LIC-LOCATION:Europe/Warsaw
BEGIN:STANDARD
DTSTART:20191027T020000
TZOFFSETFROM:+0200
TZOFFSETTO:+0100
TZNAME:CET
END:STANDARD
END:VTIMEZONE
END:VCALENDAR