BEGIN:VCALENDAR
VERSION:2.0
PRODID:-//wp-events-plugin.com//7.2.3.1//EN
TZID:Europe/Warsaw
X-WR-TIMEZONE:Europe/Warsaw
BEGIN:VEVENT
UID:30543@night4u.pl
DTSTART;TZID=Europe/Warsaw:20191012T200000
DTEND;TZID=Europe/Warsaw:20191012T223000
DTSTAMP:20191015T103755Z
URL:https://night4u.pl/wydarzenia/dziady-kazimierskie-w-undergroundzie/
SUMMARY:Dziady Kazimierskie w Undergroundzie
DESCRIPTION:Jak co roku na jesieni gościć będziemy DZIADY KAZIMIERSKIE :
 )\n\nBilety: 25 zł przedsprzedaż/ 35 w dniu koncertu. \nOnline: https://
 goout.net/pl/bilety/dziady-kazimierskie/exwe/\nBilety fizyczne do kupienia
  w lokalu codziennie od 17.00.
ATTACH;FMTTYPE=image/jpeg:https://night4u.pl/wp-content/uploads/2019/10/70
 391_image_53066223_2299256490113732_4816331890002755584_o.jpg
CATEGORIES:podkarpackie
LOCATION:Niezła Sztuka\, Ul. Sobieskiego 18\, Rzeszów\, 35-001\, Poland
GEO:50.038909;22.007654
X-APPLE-STRUCTURED-LOCATION;VALUE=URI;X-ADDRESS=Ul. Sobieskiego 18\, Rzesz
 ów\, 35-001\, Poland;X-APPLE-RADIUS=100;X-TITLE=Niezła Sztuka:geo:50.038
 909,22.007654
END:VEVENT
BEGIN:VTIMEZONE
TZID:Europe/Warsaw
X-LIC-LOCATION:Europe/Warsaw
BEGIN:DAYLIGHT
DTSTART:20190331T030000
TZOFFSETFROM:+0100
TZOFFSETTO:+0200
TZNAME:CEST
END:DAYLIGHT
END:VTIMEZONE
END:VCALENDAR