BEGIN:VCALENDAR
VERSION:2.0
PRODID:-//wp-events-plugin.com//7.2.3.1//EN
TZID:Europe/Warsaw
X-WR-TIMEZONE:Europe/Warsaw
BEGIN:VEVENT
UID:16831@night4u.pl
DTSTART;TZID=Europe/Warsaw:20190521T180000
DTEND;TZID=Europe/Warsaw:20190522T030000
DTSTAMP:20190521T133552Z
URL:https://night4u.pl/wydarzenia/dzieje-sie-w-miescie-wtorek-21-05-kampus
 -uo-cina-club/
SUMMARY:Dzieje się w mieście - wtorek 21.05 - kampus UO\, Cina Club
DESCRIPTION:Drugi dzień Piastonaliów w Cina Club czyli Dzieje Się W Mie
 ście ... We wtorek 21 maja startujemy na małej scenie na Kampusie UO o g
 odz. 18:00 - zagrają dla Was rezydenci klubu Cina: Rossi oraz Dee Push. P
 o zakończeniu imprezy na kampusie przenosimy się na oficjalne After Part
 y do klubu CINA.\n\nAFTER W CINA CLUB: do godz. 23:00 studenci wstęp free
 \, po godz. 23:00 wstęp 5 zł\, selekcja 18+\n\nBezpłatna internetowa re
 zerwacja miejsc:\nwww.emenago.opole.pl\n\nCina Club - oficjalny klub Piast
 onaliów 2019. Współorganizator imprezy: Samorząd Studencki Uniwersytet
 u Opolskiego
ATTACH;FMTTYPE=image/jpeg:https://night4u.pl/wp-content/uploads/2019/05/41
 253_image_60612269_2448811795182388_4538980816335667200_n.jpg
CATEGORIES:opolskie
LOCATION:Cina Club\, Katowicka 55\, Opole\, 45-061\, Poland
GEO:50.667448;17.93523
X-APPLE-STRUCTURED-LOCATION;VALUE=URI;X-ADDRESS=Katowicka 55\, Opole\, 45-0
 61\, Poland;X-APPLE-RADIUS=100;X-TITLE=Cina Club:geo:50.667448,17.93523
END:VEVENT
BEGIN:VTIMEZONE
TZID:Europe/Warsaw
X-LIC-LOCATION:Europe/Warsaw
BEGIN:DAYLIGHT
DTSTART:20190331T030000
TZOFFSETFROM:+0100
TZOFFSETTO:+0200
TZNAME:CEST
END:DAYLIGHT
END:VTIMEZONE
END:VCALENDAR