BEGIN:VCALENDAR
VERSION:2.0
PRODID:-//wp-events-plugin.com//7.2.3.1//EN
TZID:Europe/Warsaw
X-WR-TIMEZONE:Europe/Warsaw
BEGIN:VEVENT
UID:44055@night4u.pl
DTSTART;TZID=Europe/Warsaw:20200308T193000
DTEND;TZID=Europe/Warsaw:20200308T223000
DTSTAMP:20200331T140455Z
URL:https://night4u.pl/wydarzenia/dzien-kobiet-mizia-mizia-tribute-to-nale
 pa/
SUMMARY:Dzień kobiet: Mizia &amp\; Mizia Tribute to Nalepa
DESCRIPTION:Mizia &amp\; Mizia Blues Band - Tribute to Nalepa\n\nTo już tr
 adycja\, że Mizia &amp\; Mizia Blues Band w rocznicę śmierci ojca polsk
 iego bluesa\, Tadeusza Nalepy zagra koncert z jego utworami.\n \nNie zabra
 knie największych przebojów zespołu Breakout takich jak Pomaluj moje sn
 y\, Co stało się kwiatom czy Gdybym był wichrem\, a dodatkową atrakcj
 ą będzie garść utworów Alvina Lee z Ten Years After\, który także z
 marł na początku marca. \n\nSerdecznie zapraszamy na ten wyjątkowy Dzie
 ń Kobiet do Starego Klasztoru 8 marca o godz. 19.30 \n\nBilety w cenie 20
  zł dostępne w Starym Klasztorze\nrezerwacja: bilety@o2.pl \n\nUwaga:\nK
 asa będzie czynna w godz 18.00 – 21.00 w dniach\, w których obywają s
 ię koncerty w Starym Klasztorze\n(tu wykaz koncertów: http://staryklaszt
 or.com.pl/koncerty/)
ATTACH;FMTTYPE=image/jpeg:https://night4u.pl/wp-content/uploads/2020/01/14
 1687_image_82561956_1523009381180126_7454467121519525888_o.jpg
CATEGORIES:dolnośląskie
LOCATION:Restauracja Stary Klasztor\, Purkyniego 1 A\, Wroclaw\, 50-155\, P
 oland
GEO:51.110371;17.044279
X-APPLE-STRUCTURED-LOCATION;VALUE=URI;X-ADDRESS=Purkyniego 1 A\, Wroclaw\, 
 50-155\, Poland;X-APPLE-RADIUS=100;X-TITLE=Restauracja Stary Klasztor:geo:
 51.110371,17.044279
END:VEVENT
BEGIN:VTIMEZONE
TZID:Europe/Warsaw
X-LIC-LOCATION:Europe/Warsaw
BEGIN:STANDARD
DTSTART:20191027T020000
TZOFFSETFROM:+0200
TZOFFSETTO:+0100
TZNAME:CET
END:STANDARD
END:VTIMEZONE
END:VCALENDAR