BEGIN:VCALENDAR
VERSION:2.0
PRODID:-//wp-events-plugin.com//7.2.3.1//EN
TZID:Europe/Warsaw
X-WR-TIMEZONE:Europe/Warsaw
BEGIN:VEVENT
UID:47682@night4u.pl
DTSTART;TZID=Europe/Warsaw:20200307T210000
DTEND;TZID=Europe/Warsaw:20200308T040000
DTSTAMP:20200307T093220Z
URL:https://night4u.pl/wydarzenia/dzien-kobiet-w-pin-up/
SUMMARY:Dzień Kobiet w Pin-Up!
DESCRIPTION:Dzień Kobiet świętujemy tylko raz w roku\, więc spraw\, aby
  był naprawdę niezapomniany! W sobotę 7 marca zabierz koleżanki i prze
 żyj jeden z najgorętszych wieczorów w Pin-Up! Tej nocy zostań królow
 ą parkietu\, na którym rozgrzeją Was nie tylko największe hity! Głów
 ną atrakcją wieczoru będzie Chippendale Show.\nAby dobrze rozpocząć z
 abawę\, każda z Pań otrzyma od Pin-Up! welcome drink.\nZapowiada się g
 orąca noc! \n\nStart imprezy: od 21.00!\n\nWstęp: 10 zł.
ATTACH;FMTTYPE=image/jpeg:https://night4u.pl/wp-content/uploads/2020/02/16
 0286_image_86988540_2607679752662697_6163239432234205184_o.jpg
CATEGORIES:śląskie
LOCATION:Pin-Up\, Plac Kou015Bciuszki 1\, Bytom\, 41-902\, Poland
GEO:50.347462;18.920302
X-APPLE-STRUCTURED-LOCATION;VALUE=URI;X-ADDRESS=Plac Kou015Bciuszki 1\, Byt
 om\, 41-902\, Poland;X-APPLE-RADIUS=100;X-TITLE=Pin-Up:geo:50.347462,18.92
 0302
END:VEVENT
BEGIN:VTIMEZONE
TZID:Europe/Warsaw
X-LIC-LOCATION:Europe/Warsaw
BEGIN:STANDARD
DTSTART:20191027T020000
TZOFFSETFROM:+0200
TZOFFSETTO:+0100
TZNAME:CET
END:STANDARD
END:VTIMEZONE
END:VCALENDAR