BEGIN:VCALENDAR
VERSION:2.0
PRODID:-//wp-events-plugin.com//7.2.3.1//EN
TZID:Europe/Warsaw
X-WR-TIMEZONE:Europe/Warsaw
BEGIN:VEVENT
UID:9189@night4u.pl
DTSTART;TZID=Europe/Warsaw:20190308T100000
DTEND;TZID=Europe/Warsaw:20190309T060000
DTSTAMP:20190307T234528Z
URL:https://night4u.pl/wydarzenia/dzien-kobiet-w-prl-u/
SUMMARY:Dzień Kobiet w PRL-u!
DESCRIPTION:Jak mówił Władysław Gomułka z okazji Dnia Kobiet: \n„Nie
  ma dziś w Polsce dziedziny\, w której kobiety nie odgrywałyby ważnej 
 roli.”\n\nJuż w PRL-u wszyscy mężczyźni wiedzieli\, że Wy\, drogie 
 Panie\, jesteście niezastąpione!\nWłaśnie dlatego już 8 marca zaprasz
 amy do PRL-u\, gdzie wszystkie Kobitki wejdą za darmo\, muzyka będzie gr
 ała do białego rana\, a nogi same będą rwać się do tańca! ?\n\nDoda
 tkowo nasza Milicja Obywatelska będzie patrolować Rynek i okolice\, aby 
 obdarowywać Was kwiatkami\, rajstopami i mydełkami!\n\nZapraszamy!
ATTACH;FMTTYPE=image/jpeg:https://night4u.pl/wp-content/uploads/2019/03/24
 923_image_53415003_2303802522971705_3386049613692665856_o.jpg
CATEGORIES:dolnośląskie
LOCATION:PRL -  Klubo-kawiarnia\, Rynek Ratusz 10\, Wroclaw\, 50-106\, Pola
 nd
GEO:51.110743;17.031897
X-APPLE-STRUCTURED-LOCATION;VALUE=URI;X-ADDRESS=Rynek Ratusz 10\, Wroclaw\,
  50-106\, Poland;X-APPLE-RADIUS=100;X-TITLE=PRL -  Klubo-kawiarnia:geo:51.
 110743,17.031897
END:VEVENT
BEGIN:VTIMEZONE
TZID:Europe/Warsaw
X-LIC-LOCATION:Europe/Warsaw
BEGIN:STANDARD
DTSTART:20181028T020000
TZOFFSETFROM:+0200
TZOFFSETTO:+0100
TZNAME:CET
END:STANDARD
END:VTIMEZONE
END:VCALENDAR