BEGIN:VCALENDAR
VERSION:2.0
PRODID:-//wp-events-plugin.com//7.2.3.1//EN
TZID:Europe/Warsaw
X-WR-TIMEZONE:Europe/Warsaw
BEGIN:VEVENT
UID:47965@night4u.pl
DTSTART;TZID=Europe/Warsaw:20200308T160000
DTEND;TZID=Europe/Warsaw:20200308T233000
DTSTAMP:20200331T140407Z
URL:https://night4u.pl/wydarzenia/dzien-kobiet-w-starym-klasztorze/
SUMMARY:Dzień Kobiet w Starym Klasztorze!
DESCRIPTION:Panowie! \nPonad 100 lat temu dzień 8 marca ogłoszono jako ob
 owiązujący na całym świecie Dzień Kobiet\, który jest obecnie oficja
 lnym świętem w wielu Państwach. Mężczyźni wręczają wtedy znajomym 
 kobietom – matkom\, żonom\, partnerkom\, koleżankom kwiaty i drobne po
 darunki.\n\nZ tej okazji drodzy Panowie\, możecie  podarować ukochanej k
 obiecie romantyczne\, a mamie bądź przyjaciółce niezapomniane chwile. 
  \nZapraszamy do skorzystania z naszej specjalnej oferty na Dzień Kobiet 
 2020! \n\nGotyckie\, klimatyczne wnętrze odrębnej sali zlokalizowanej w 
 samym sercu Wrocławia dostępne będzie tylko dla szczęśliwych posiadac
 zy naszych zaproszeń. \nZadbamy o przyjemną atmosferę oraz wspaniały n
 astrój.\n\nZ okazji Dnia Kobiet prezentujemy 3 zestawy w różnych cenach
 \, w których skład wchodzi specjalna oferta Szefa Kuchni: \n(dowolne kom
 pozycje: MENU SZEFA KUCHNI mieści się pod opisem zestawów)\n\n\n Zes
 taw nr 1 - 85 zł/os (170 zł/para) \n✔ Dowolna kompozycja (przystawka\,
  danie główne\, deser) \n✔ Butelka wina do wyboru z: \n- Contadino Bia
 nco \n- Contadino Rosso \n\n Zestaw nr 2 - 105 zł/os (210 zł/para) \n
 ✔ Aperitif (po 1 drinku na osobę)\, do wyboru: \n- Americano (campari\,
  martini rosso\, woda gazowana) \n- Camapri&amp\;soda (campari\, woda gaz.
 ) \n- Prossecco (kieliszek prossecco 100 ml) \n✔ Dowolna kompozycja (prz
 ystawka\, danie główne\, deser) \n✔ Butelka wina\, do wyboru z: \n- Co
 ntadino Bianco \n- Contadino Rosso \n- Canyon Road Merlot \n- Canyon Road 
 Pinot Grigio \n- Frontera Sweet Red \n\n Zestaw nr 3 120 zł/os (240 z
 ł/para) \n✔ Aperitif (po 1 drinku na osobę)\, do wyboru: \n- Americano
  (campari\, martini rosso\, woda gazowana) \n- prossecco (kieliszek prosse
 cco 120 ml) \n- Aperol Spritz (aperol\, prossecco\, woda gazowana) \n- Neg
 roni ( gin\, martini rosso\, campari) \n✔ Dowolna kompozycja (przystawka
 \, danie główne\, deser) \n✔ Butelka wina do wyboru z: \n- Canyon Road
  Merlot \n- Canyon Road Pinot Grigio \n- Sendero Moscato \n- San Valentin 
 White \n- Mas Rabell Garnacha\n\nI MENU \n✦PRZYSTAWKA \nSałatka Argenty
 ńska \n(mix sałat / szpinak / awokado / gruszka / granat / sos winegret 
 miodowo musztardowy) \n✦DANIE GŁÓWNE \nConchigile\n(makaron w pięciu 
 smakach/ szpinak liściasty / ser mozzarella / pesto ziołowe / sos pomido
 rowy) \n✦DESER \nCzekoladowy granat \n(ciasto czekoladowe / gorzka czeko
 lada /prażone migdały / granat)\n\nII MENU \n✦PRZYSTAWKA \nKrewetki ch
 ili (krewetki / serowe ciasto surimi / czosnek / chilli / mix sałat) \n
 ✦DANIE GŁÓWNE \nSztabka wołowa (duszona w winie wołowina / śliwka k
 alifornijska / marchewka baby / kulki ziołowo ziemniaczane) \n✦DESER \n
 Francuski pocałunek (ciasto francuskie / masa karpatkowa / mus malinowy /
  ajerkoniak)\n\nIII MENU \n✦PRZYSTAWKA \nMelon prosciutto (melon / szynk
 a prosciutto / mix sałat / granat ) \n✦DANIE GŁÓWNE \nPieczona tilapi
 a (tilapia / puree z pieczonych warzyw / chipsy szpinakowe / gotowany kala
 fior romanesco) \n✦DESER \nRozkosz (panna cotta / frużelina owocowa / b
 eza)\n\nIstnieje możliwość połączenia stolików 2 osobowych dla kilku
  osób.\nRadzimy śpieszyć się z rezerwacją\,\nilość miejsc ograniczo
 na!\ntel. 730 048 677\nmail: imprezy@staryklasztor.com.pl
ATTACH;FMTTYPE=image/jpeg:https://night4u.pl/wp-content/uploads/2020/02/16
 1602_image_86831265_1546540148827049_6647482417739202560_o.jpg
CATEGORIES:dolnośląskie
LOCATION:Restauracja Stary Klasztor\, Purkyniego 1 A\, Wroclaw\, 50-155\, P
 oland
GEO:51.110371;17.044279
X-APPLE-STRUCTURED-LOCATION;VALUE=URI;X-ADDRESS=Purkyniego 1 A\, Wroclaw\, 
 50-155\, Poland;X-APPLE-RADIUS=100;X-TITLE=Restauracja Stary Klasztor:geo:
 51.110371,17.044279
END:VEVENT
BEGIN:VTIMEZONE
TZID:Europe/Warsaw
X-LIC-LOCATION:Europe/Warsaw
BEGIN:STANDARD
DTSTART:20191027T020000
TZOFFSETFROM:+0200
TZOFFSETTO:+0100
TZNAME:CET
END:STANDARD
END:VTIMEZONE
END:VCALENDAR