BEGIN:VCALENDAR
VERSION:2.0
PRODID:-//wp-events-plugin.com//7.2.3.1//EN
TZID:Europe/Warsaw
X-WR-TIMEZONE:Europe/Warsaw
BEGIN:VEVENT
UID:9206@night4u.pl
DTSTART;TZID=Europe/Warsaw:20190309T210000
DTEND;TZID=Europe/Warsaw:20190310T040000
DTSTAMP:20190307T234541Z
URL:https://night4u.pl/wydarzenia/dzien-kobiet-wybory-miss-noflex/
SUMMARY:Dzień Kobiet & Wybory Miss @NoFlex
DESCRIPTION:8 marca to jeden z wyjątkowych dni w roku\,okazje do świętow
 ania mają wtedy wszystkie przedstawicielki płci pięknej??\n\n      ??DZ
 IEŃ KOBIET Z NOFLEX??\n\n9 marca damy Wam okazje abyście tej nocy poczu
 ły się szczególnie wyjątkowo. To Wy na tej imprezie będziecie królow
 ać!?\nEkskluzywne trunki\,fantastyczne nagrody i wszystko przygotowane sp
 ecjalnie dla Was. Z tej okazji odbędzie się także konkurs Miss NoFlex g
 dzie wspólnie wybierzemy najpiękniejsza imprezowiczkę??‍♀️\n\nOcz
 ywiście wszyscy Panowie są również mile widziani jako towarzystwo dla 
 naszych pięknych dziewczyn! Także drogie Panie (i Panowie) już 9.03.201
 9 widzimy się aby świętować ten szczególny dzień razem?\n\n?Wstęp?-
 16+\n?Kiedy?-9.03.2019\n?Gdzie?-AKADEMIA CLUB\n?Muzyka? NIESPODZIANKA!\n\n
 Przez całą noc parkiet rozgrzewać będzie nasz niepowtarzalny DJ Kevlar
 \, oraz zaproszeni przez niego przyjaciele: BUBI\, KADE\, oraz SOBNOIZE! ?
 \n\nBędzie wyjątkowe BUM! ???\n\n?Bilety- 20 pln\nBramka - 25 pln\n\nBil
 ety dostępne u naszych promotorów\,których listę znajdziecie poniżej
 ⤵️\n\n?Marcin Konieczny\n?Adrian Stepanyan\n?Paulina Wołowicz\n?Amelk
 a Łukasiewicz\n?Nikola Ptaszyńska\n?Karol Osiński
ATTACH;FMTTYPE=image/jpeg:https://night4u.pl/wp-content/uploads/2019/03/24
 967_image_51499485_371325690371666_5952050195163250688_o.jpg
CATEGORIES:dolnośląskie
LOCATION:Akademia\, Grunwaldzka 67\, Wroclaw\, 50-357\, Poland
GEO:51.11448;17.06641
X-APPLE-STRUCTURED-LOCATION;VALUE=URI;X-ADDRESS=Grunwaldzka 67\, Wroclaw\, 
 50-357\, Poland;X-APPLE-RADIUS=100;X-TITLE=Akademia:geo:51.11448,17.06641
END:VEVENT
BEGIN:VTIMEZONE
TZID:Europe/Warsaw
X-LIC-LOCATION:Europe/Warsaw
BEGIN:STANDARD
DTSTART:20181028T020000
TZOFFSETFROM:+0200
TZOFFSETTO:+0100
TZNAME:CET
END:STANDARD
END:VTIMEZONE
END:VCALENDAR