BEGIN:VCALENDAR
VERSION:2.0
PRODID:-//wp-events-plugin.com//7.2.3.1//EN
TZID:Europe/Warsaw
X-WR-TIMEZONE:Europe/Warsaw
BEGIN:VEVENT
UID:14413@night4u.pl
DTSTART;TZID=Europe/Warsaw:20190504T200000
DTEND;TZID=Europe/Warsaw:20190505T040000
DTSTAMP:20190430T142820Z
URL:https://night4u.pl/wydarzenia/dzien-kota-balujemy-bo-to-sobota/
SUMMARY:Dzień kota - balujemy\, bo to sobota!
DESCRIPTION:Sobota dzień kota - balujemy do rana\, będzie muza dobrze dob
 rana!\n\nZapraszamy na gorącą zabawę w rytmie lat 60\, 70\, 80\, 90 ora
 z nowości.\n\nWieczorami nachodzi nas ochota\, żeby oddać się szaleńc
 zej zabawie przy znanych rytmach. "Majówka" jest od tego\, żeby tańczy
 ć i rozkoszować się wymyślnymi drinkami\, a takich u nas nie brakuje. 
 Nie ważne ile masz lat\, nie ważne\, czy jesteś singlem\, czy nie. U na
 s poznasz ciekawych ludzi i spędzisz swój wolny czas najlepiej jak to mo
 żliwe. Skoro wszystko stało się jasne\, nie pozostaje nic innego\, jak 
 życzyć wielu tanecznych przygód i powiedzieć .... Do zobaczenia na Pok
 ładzie.\n\nRezerwacje: 730 163 415 \nlub on-line: \nhttps://www.poklad.pl
 /rezerwacja-rezerwacja-online-poklad.html\n\n\nStart 20.00 \n\nWstęp maj
 ą osoby 18+\n\nObowiązuje selekcja\n- ubiór typu Smart Casual (sportowa
  elegancja)\n\nKoszt: 20 pln\n*  klub zastrzega sobie zmianę ceny wejści
 a w trakcie trwania imprezy.
ATTACH;FMTTYPE=image/jpeg:https://night4u.pl/wp-content/uploads/2019/04/35
 902_image_58460874_2273417532714546_7600144260351918080_n.jpg
CATEGORIES:pomorskie
LOCATION:Klub Pokład\, Aleja Jana Pawła II 11\, Gdynia\, 81-345\, Poland
GEO:54.51866;18.54817
X-APPLE-STRUCTURED-LOCATION;VALUE=URI;X-ADDRESS=Aleja Jana Pawła II 11\, G
 dynia\, 81-345\, Poland;X-APPLE-RADIUS=100;X-TITLE=Klub Pokład:geo:54.518
 66,18.54817
END:VEVENT
BEGIN:VTIMEZONE
TZID:Europe/Warsaw
X-LIC-LOCATION:Europe/Warsaw
BEGIN:DAYLIGHT
DTSTART:20190331T030000
TZOFFSETFROM:+0100
TZOFFSETTO:+0200
TZNAME:CEST
END:DAYLIGHT
END:VTIMEZONE
END:VCALENDAR