BEGIN:VCALENDAR
VERSION:2.0
PRODID:-//wp-events-plugin.com//7.2.3.1//EN
TZID:Europe/Warsaw
X-WR-TIMEZONE:Europe/Warsaw
BEGIN:VEVENT
UID:15253@night4u.pl
DTSTART;TZID=Europe/Warsaw:20190509T130000
DTEND;TZID=Europe/Warsaw:20190509T160000
DTSTAMP:20190508T105054Z
URL:https://night4u.pl/wydarzenia/dzien-sportu-juwenalia-politechniki-lube
 lskiej-2019/
SUMMARY:Dzień Sportu / Juwenalia Politechniki Lubelskiej 2019
DESCRIPTION:Dzień sportu to dzień wielu wyzwań\, gdzie każdy znajdzie c
 oś dla siebie. \n\nTegoroczne dyscypliny to :\n- Rozgrzewka i bieg z rekt
 orem \n- Zbijak
ATTACH;FMTTYPE=image/jpeg:https://night4u.pl/wp-content/uploads/2019/05/37
 696_image_60023029_2064350276993510_5510312061445341184_o.jpg
CATEGORIES:lubelskie
LOCATION:Politechnika Lubelska\, Nadbystrzycka 36\, Lublin\, 20-618\, Polan
 d
GEO:51.234808;22.546491
X-APPLE-STRUCTURED-LOCATION;VALUE=URI;X-ADDRESS=Nadbystrzycka 36\, Lublin\,
  20-618\, Poland;X-APPLE-RADIUS=100;X-TITLE=Politechnika Lubelska:geo:51.2
 34808,22.546491
END:VEVENT
BEGIN:VTIMEZONE
TZID:Europe/Warsaw
X-LIC-LOCATION:Europe/Warsaw
BEGIN:DAYLIGHT
DTSTART:20190331T030000
TZOFFSETFROM:+0100
TZOFFSETTO:+0200
TZNAME:CEST
END:DAYLIGHT
END:VTIMEZONE
END:VCALENDAR