BEGIN:VCALENDAR
VERSION:2.0
PRODID:-//wp-events-plugin.com//7.2.3.1//EN
TZID:Europe/Warsaw
X-WR-TIMEZONE:Europe/Warsaw
BEGIN:VEVENT
UID:47266@night4u.pl
DTSTART;TZID=Europe/Warsaw:20200229T223000
DTEND;TZID=Europe/Warsaw:20200301T050000
DTSTAMP:20200229T170807Z
URL:https://night4u.pl/wydarzenia/dziewczyny-just-wanna-have-fun-lista-fb/
SUMMARY:Dziewczyny just wanna have fun | lista FB*
DESCRIPTION:Popkulturowe prowokatorki i orędowniczki. Niepokorne i wyzwolo
 ne. Silne i niezależne. Reprezentantki różnych gatunków muzycznych. \n
 \nOd Madonny\, przez Donnę Summer\, Tinę Turner\, Joan Jett czy Cher\, a
 ż po Amy Winehouse i Beyonce. Ta noc będzie w ich wersji świata!\n\nNad
  selekcją piosenek czuwać będzie:\n⚡ KATZ + Krucza\n⚡ Eliza Kraków
 ka\n⚡ Hate Bush\n\nGramy dla: Fundacja Rak'n'Roll Wygraj Życie - 1% doc
 hodu z imprezy przeznaczymy na fundację.\n\nRezerwacje stolików i miejsc
  siedzących przyjmujemy pod mailem: rezerwacje@klubniebo.pl\n\n20+\nTAX: 
 20\n*lista FB free do 23:30\n---\nPatronat:\nWarsawholic\nExample.pl\nGoin
 g.
ATTACH;FMTTYPE=image/jpeg:https://night4u.pl/wp-content/uploads/2020/02/15
 7591_image_87385508_2564282067169957_4796855102373625856_o.jpg
CATEGORIES:mazowieckie
LOCATION:NIEBO\, ul. Nowy Świat 21\, Warsaw\, 00-029\, Poland
GEO:52.23238;21.018267
X-APPLE-STRUCTURED-LOCATION;VALUE=URI;X-ADDRESS=ul. Nowy Świat 21\, Warsaw
 \, 00-029\, Poland;X-APPLE-RADIUS=100;X-TITLE=NIEBO:geo:52.23238,21.018267
END:VEVENT
BEGIN:VTIMEZONE
TZID:Europe/Warsaw
X-LIC-LOCATION:Europe/Warsaw
BEGIN:STANDARD
DTSTART:20191027T020000
TZOFFSETFROM:+0200
TZOFFSETTO:+0100
TZNAME:CET
END:STANDARD
END:VTIMEZONE
END:VCALENDAR