BEGIN:VCALENDAR
VERSION:2.0
PRODID:-//wp-events-plugin.com//7.2.3.1//EN
TZID:Europe/Warsaw
X-WR-TIMEZONE:Europe/Warsaw
BEGIN:VEVENT
UID:49085@night4u.pl
DTSTART;TZID=Europe/Warsaw:20200307T220000
DTEND;TZID=Europe/Warsaw:20200308T050000
DTSTAMP:20200331T140657Z
URL:https://night4u.pl/wydarzenia/dzik-kobiet-%e2%80%a2-maria-bros-rita-%e
 2%80%a2/
SUMMARY:DZiK Kobiet • Maria Bros &amp\; Rita •
DESCRIPTION:DZiK Kobiet!\nZagrają Dziewczęta czyli Maria Bros &amp\; Rita
  \n\nRzadko kiedy wśród kobiet zachodzą kompromisy\, nie mniej te (już
 ) dwie panny zgodnie stwierdziły\, że mają dość testosteronu sącząc
 ego się zza deków. Jedna z nich gra i pije\, druga tańczy i pije\, tote
 ż o wspólny mianownik nie trudno. Dodatkowo Rita przekłada ręce z tył
 u do przodu bez puszczania\, a Maria przyjaźniła się z Maffashion. Gary
  wypadają im z rąk\, a stopy mają za duże\, więc za bardzo odstają o
 d zlewu. Znalazły więc sposób na siebie niosąc dobrą energie poprzez 
 głośniki. Jako zwolenniczki stylu eklektycznego prezentują rzeczy\, kt
 órych najmniej możecie się spodziewać. Na parkiecie spotykają się m.
 in The Backstreet Boys z ACDC oraz Kazik z Brodką. Nic tu nie jest na pow
 ażnie\, więc zabierz ze sobą dużo dystansu.\n\nStart: 22:00\nWstęp:  
 Panowie do północy 10\, po północy 25 złotych - Kobiety wchodzą  za 
 darmo!
ATTACH;FMTTYPE=image/jpeg:https://night4u.pl/wp-content/uploads/2020/02/16
 8629_image_87759452_2746635978738467_1091035960788910080_o.jpg
CATEGORIES:mazowieckie
LOCATION:DZiK\, Belwederska 44A\, Mokotów\, 00-594\, Poland
GEO:52.209804;21.028643
X-APPLE-STRUCTURED-LOCATION;VALUE=URI;X-ADDRESS=Belwederska 44A\, Mokotów\
 , 00-594\, Poland;X-APPLE-RADIUS=100;X-TITLE=DZiK:geo:52.209804,21.028643
END:VEVENT
BEGIN:VTIMEZONE
TZID:Europe/Warsaw
X-LIC-LOCATION:Europe/Warsaw
BEGIN:STANDARD
DTSTART:20191027T020000
TZOFFSETFROM:+0200
TZOFFSETTO:+0100
TZNAME:CET
END:STANDARD
END:VTIMEZONE
END:VCALENDAR