BEGIN:VCALENDAR
VERSION:2.0
PRODID:-//wp-events-plugin.com//7.2.3.1//EN
TZID:Europe/Warsaw
X-WR-TIMEZONE:Europe/Warsaw
BEGIN:VEVENT
UID:24651@night4u.pl
DTSTART;TZID=Europe/Warsaw:20190814T210000
DTEND;TZID=Europe/Warsaw:20190815T060000
DTSTAMP:20190815T220618Z
URL:https://night4u.pl/wydarzenia/dziubee-drummer-xdemon-zielona-gora-czwa
 rtek-wolny/
SUMMARY:Dziubee Drummer // Xdemon Zielona Góra // Czwartek WOLNY !
DESCRIPTION:Przyjdź i poczuj klimat najlepszych imprez w regionie ‼️\n
 ➡️WSTĘP DARMOWY dla PAŃ DO 24:00\n\nNie możesz tego przegapić ! Do
 łącz do wydarzenia już dziś!\n\n☎ Rezerwacje ONLINE http://bit.ly/1R
 tF806\n INFO: 797 407 885 ☎\n\nNie zapomnij o kuszących promocjach w kl
 ubie X-DEMON:\n\nPROMOCJA URODZINOWA\nPROMOCJA NA WIECZÓR PANIEŃSKI \n\n
 OBSERWUJ NAS:\nwww.xdemon.pl\nwww.facebook.com/XDemon\nwww.instagram.com/x
 demonzielonagora\nsnapchat: xdemonzg\n\nTylko w X-Demonie najlepsza imprez
 a nie jest przypadkiem a regułą!
ATTACH;FMTTYPE=image/jpeg:https://night4u.pl/wp-content/uploads/2019/08/57
 970_image_67771044_3369374173076343_2785976312311840768_o.jpg
CATEGORIES:lubuskie
LOCATION:X-Demon - Zielona Góra\, \, 
X-APPLE-STRUCTURED-LOCATION;VALUE=URI;X-ADDRESS=\, ;X-APPLE-RADIUS=100;X-TI
 TLE=X-Demon - Zielona Góra:geo:0,0
END:VEVENT
BEGIN:VTIMEZONE
TZID:Europe/Warsaw
X-LIC-LOCATION:Europe/Warsaw
BEGIN:DAYLIGHT
DTSTART:20190331T030000
TZOFFSETFROM:+0100
TZOFFSETTO:+0200
TZNAME:CEST
END:DAYLIGHT
END:VTIMEZONE
END:VCALENDAR