BEGIN:VCALENDAR
VERSION:2.0
PRODID:-//wp-events-plugin.com//7.2.3.1//EN
TZID:Europe/Warsaw
X-WR-TIMEZONE:Europe/Warsaw
BEGIN:VEVENT
UID:19461@night4u.pl
DTSTART;TZID=Europe/Warsaw:20190629T220000
DTEND;TZID=Europe/Warsaw:20190630T050000
DTSTAMP:20190615T024820Z
URL:https://night4u.pl/wydarzenia/eat-sleep-shine-repeat-29-06-lista-fb-fr
 ee-do-2300/
SUMMARY:Eat\, Sleep\, SHINE\, Repeat! // 29.06 // Lista FB Free Do 23:00!
DESCRIPTION:[ENGLISH VERSION BELOW]\n\nCykl ten poświęcony jest najlepszy
 m dźwiękom muzyki elektronicznej z gatunku House\, Progressive\, Future\
 , Electro i EDM.\n\nO muzyczne doznania dbają nasi rezydenci i zaproszeni
  goście\, barmani przygotują najsmaczniejsze drinki\, Wam zaś pozostawi
 amy dobrą zabawę... :)\n\nLINE-UP:\n\n✘✘✘ MAINSTAGE ✘✘✘\n\n
 ✰ Ian Official (Shine Guest/Kraków)\n✰ ESKEY DJ (Shine Resident/Krak
 ów)\n\n✘✘✘ sala R'n'B ✘✘✘\n\n✰ DANNY BOY (Shine Guest/Krak
 ów)\n\n✘✘✘ LATIN STAGE ✘✘✘\n\n✰ TIGER DJ (Havana/Kuba)\n✰
  NESTY DJ (Havana/Kuba)\n________________________________\nStart: 22:00\;\
 nWjazd: 15 PLN\; po 24:00 - 20 PLN\nLISTA FB DO 23:00 - FREE!\nWstęp: 21+
 !\nObowiązuje: door selection.\n________________________________\n\n[ENGL
 ISH VERSION]\n\nEAT\, SLEEP\, SHINE\, REPEAT is an event dedicated to the 
 best electronic music genres: House\, Progressive\, Future\, Electro and B
 ig Room.\n\nUnique music atmosphere is guaranteed by our residents and inv
 ited guests\, the tastiest drinks will be prepared by our bartenders and t
 he only thing that you have to do is... have a good time!\n_______________
 _________________\nStart: 10:00 P.M.\nEntry: 15PLN\; after MIDNIGHT - 20PL
 N\nFree entry with Facebook list (click 'Attend') till 11:00 P.M.\nAge: 21
 +\nDoor Selection.
ATTACH;FMTTYPE=image/jpeg:https://night4u.pl/wp-content/uploads/2019/06/46
 912_image_64546596_2720647241297634_8852179668686602240_o.jpg
CATEGORIES:małopolskie
LOCATION:Shine Club Kraków\, Starowiślna 16\, Kraków\, 31-032\, Poland
GEO:50.05756;19.94445
X-APPLE-STRUCTURED-LOCATION;VALUE=URI;X-ADDRESS=Starowiślna 16\, Kraków\,
  31-032\, Poland;X-APPLE-RADIUS=100;X-TITLE=Shine Club Kraków:geo:50.0575
 6,19.94445
END:VEVENT
BEGIN:VTIMEZONE
TZID:Europe/Warsaw
X-LIC-LOCATION:Europe/Warsaw
BEGIN:DAYLIGHT
DTSTART:20190331T030000
TZOFFSETFROM:+0100
TZOFFSETTO:+0200
TZNAME:CEST
END:DAYLIGHT
END:VTIMEZONE
END:VCALENDAR