BEGIN:VCALENDAR
VERSION:2.0
PRODID:-//wp-events-plugin.com//7.2.3.1//EN
TZID:Europe/Warsaw
X-WR-TIMEZONE:Europe/Warsaw
BEGIN:VEVENT
UID:26874@night4u.pl
DTSTART;TZID=Europe/Warsaw:20191011T190000
DTEND;TZID=Europe/Warsaw:20191011T233000
DTSTAMP:20191015T104321Z
URL:https://night4u.pl/wydarzenia/echa-i-przyjaciele-koncert-zielona-gora-
 kawon/
SUMMARY:★ Echa i Przyjaciele ★ koncert ★ Zielona Góra ★ Kawon ★
DESCRIPTION:Zespół Echa zagra w zielonogórskim Kawonie 11 października 
 2019 koncert premierowy! Promować będzie na nim swoją płytę "Echa". N
 a scenie pojawią się ich przyjaciele\, jednym z nich będzie Michał Dro
 zda z zespołu Niemoc. Na scenie pojawią się też inni młodzi artyści 
 z województwa lubuskiego\, a przed Echami zagra m.in. zielonogórski zesp
 ół Rybywieloryby. Po koncercie odbędzie się emisja filmu „Historia z
 ielonogórskiego rocka”. Wstęp na koncert jest wolny !!!\n\n★★★
 ★★★★★★★★★\nEcha i Przyjaciele - koncert\nData: 11.10.201
 9 (piątek) \nGodzina otwarcia klubu: 18:00\nGodzina rozpoczęcia koncertu
 : 19.00\nWstęp na koncert jest wolny !!!\n\n★★★★★★★★★
 ★★★\nMiejsce:\nKawon Piwnica Artystyczna\nul. Zamkowa 5\, Zielona G
 óra\n\nhttp://www.kawon.zgora.pl\n\nwydarzenie na facebooku:\nhttps://www
 .facebook.com/events/426234588242544/\n\n★★★★★★★★★★★
 ★\nEcha wydały właśnie swój debiutancki album w wytwórni SP Records
 . Echa powstały na fundamencie zespołu Bezsensu\, to tam pierwszy raz sp
 otkała się ze sobą część muzyków. Grupa pierwszy koncert pod tą na
 zwą zagrała jako gość Kultu dla czterotysięcznej widowni w Gdynia Are
 na. Trasę promującą płytę Echa rozpoczęły na Gubałówce podczas fe
 stiwalu Hej Fest - na najwyżej położonej scenie w Europie. Muzycy zespo
 łu występowali także na Open'erze\, Jarocinie oraz jako gość na trasi
 e Happysad.\n\nKoncert w Kawonie odbędzie się w ramach Lubuskie Obywatel
 skie Inicjatywy Młodzieżowe.\n\n★★★★★★★★★★★★\nPo
 słuchaj:\nhttps://youtu.be/aAtgQZCAUeE\nhttps://youtu.be/fwLE0XosU1s
ATTACH;FMTTYPE=image/jpeg:https://night4u.pl/wp-content/uploads/2019/10/62
 649_image_72210368_2639661126054388_8583532294705250304_o.jpg
CATEGORIES:lubuskie
LOCATION:Kawon Piwnica Artystyczna\, Zamkowa 5\, Zielona Góra\, 65-086\, P
 oland
GEO:51.941922;15.502279
X-APPLE-STRUCTURED-LOCATION;VALUE=URI;X-ADDRESS=Zamkowa 5\, Zielona Góra\,
  65-086\, Poland;X-APPLE-RADIUS=100;X-TITLE=Kawon Piwnica Artystyczna:geo:
 51.941922,15.502279
END:VEVENT
BEGIN:VTIMEZONE
TZID:Europe/Warsaw
X-LIC-LOCATION:Europe/Warsaw
BEGIN:DAYLIGHT
DTSTART:20190331T030000
TZOFFSETFROM:+0100
TZOFFSETTO:+0200
TZNAME:CEST
END:DAYLIGHT
END:VTIMEZONE
END:VCALENDAR