BEGIN:VCALENDAR
VERSION:2.0
PRODID:-//wp-events-plugin.com//7.2.3.1//EN
TZID:Europe/Warsaw
X-WR-TIMEZONE:Europe/Warsaw
BEGIN:VEVENT
UID:13868@night4u.pl
DTSTART;TZID=Europe/Warsaw:20190508T190000
DTEND;TZID=Europe/Warsaw:20190509T050000
DTSTAMP:20190508T105101Z
URL:https://night4u.pl/wydarzenia/eksplolzyn-w-radosci-kalwiremi-bifor-koz
 ienaliamedykalia/
SUMMARY:Eksplołżyn w Radości / Kalwi&Remi / Bifor Kozienalia&Medykalia!
DESCRIPTION:EKSPOŁŻYNNNNNN w Radości! ? ?\n\n8.05(środa) - tą datę za
 pamięta cały Lublin! ?\nJedyni i niepowtarzalni Kalwi & Remi Official za
 serwują Wam prawdziwe muzyczne EKSPOŁŻYN!\nImpreza to oficjalny BIFOR p
 rzed :\nKozienalia i Medykalia z WySPĄ i WSSP 2019 w Browarze Perła\n\nN
 ie zabraknie największy hiciorów takich jak\n⭐ "EXPLOSION" czy "IMMAGI
 NATION" ⭐\n\nLISTA FB FREE CAŁĄ NOC! ✔\nPiwo PERŁA za 3 PLN CAŁĄ 
 NOC! ?\nStartujemy już o 19:00 ⌚\n\nDJ's :\n⭐ KALWI REMI ⭐
ATTACH;FMTTYPE=image/jpeg:https://night4u.pl/wp-content/uploads/2019/04/34
 746_image_57623835_1585301411614793_8341238968901173248_o.jpg
CATEGORIES:lubelskie
LOCATION:Radość\, ul. Bernardyńska 15\, Lublin\, 20-950\, Poland
GEO:51.24424;22.5673
X-APPLE-STRUCTURED-LOCATION;VALUE=URI;X-ADDRESS=ul. Bernardyńska 15\, Lubl
 in\, 20-950\, Poland;X-APPLE-RADIUS=100;X-TITLE=Radość:geo:51.24424,22.5
 673
END:VEVENT
BEGIN:VTIMEZONE
TZID:Europe/Warsaw
X-LIC-LOCATION:Europe/Warsaw
BEGIN:DAYLIGHT
DTSTART:20190331T030000
TZOFFSETFROM:+0100
TZOFFSETTO:+0200
TZNAME:CEST
END:DAYLIGHT
END:VTIMEZONE
END:VCALENDAR