BEGIN:VCALENDAR
VERSION:2.0
PRODID:-//wp-events-plugin.com//7.2.3.1//EN
TZID:Europe/Warsaw
X-WR-TIMEZONE:Europe/Warsaw
BEGIN:VEVENT
UID:19657@night4u.pl
DTSTART;TZID=Europe/Warsaw:20190629T170000
DTEND;TZID=Europe/Warsaw:20190629T200000
DTSTAMP:20190619T103555Z
URL:https://night4u.pl/wydarzenia/eksplozja-kolorow-w-branicach-2019/
SUMMARY:Eksplozja Kolorów w Branicach 2019!
DESCRIPTION:Najbardziej kolorowa impreza w Branicach nadchodzi! ?\nWidzimy 
 się 29 czerwca 2019 ? Stadion Orzeł Branice!\nWSTĘP BEZPŁATNY!!!\n❤
 ️?????\n\nWyrzut Kolorów o 17:00\, 18:30\, 20:00!!! ??\nStrefa sprzeda
 ży Kolorów Holi wystartuje ok. 15:30❗ \n\n17:30 występ Oki\n19:00 wys
 tęp Żabson\n\nBędzie mnóstwo ATRAKCJI!!!???\nKonkursy z nagrodami i wi
 ele innych! ?\nSzczegóły będziemy podawać na bieżąco! ?\n\n?UWAGA KO
 NKURS! ✌️\n\nDo wygrania Kolory Holi! ???\nŁatwo zgarnie je pierwszyc
 h 20 osób\, które:\n❗ Zaproszą znajomych do wydarzenia (minimum 300 o
 sób).\n❗ Napiszą na tablicy eventu ZAPROSZONO i podadzą LICZBĘ zapro
 szonych osób.\n❗ Udostępnią wydarzenie na swojej tablicy (jako public
 zne lub dorzucą screen w komentarzu).\n\nNagrody do odebrania w dniu impr
 ezy w strefie Kolorów Holi! :)\n\nNie może Was tam zabraknąć! ? Pamię
 tajcie\, im więcej ludzi tym więcej zabawy\, dlatego zaproś swoich znaj
 omych i pomóż nam dotrzeć do wszystkich!???\n\n\n◾️ Czym jest Ekspl
 ozja Kolorów?\n\nTo popularna zabawa polega na wyrzucaniu w górę przez 
 tysiące ludzi Kolorów Holi\, które tworzą wielką barwną chmurę! Ca
 łe wydarzenie wypełnia atmosfera wiecznej wesołości. Młodzi i starsi\
 , wszyscy tańczą\, śpiewają i bawią się\, rzucając Kolory w powietr
 ze! To idealne miejsce\, aby się wyszaleć i zrobić niesamowite zdjęcia
 .\n\nJesteśmy pionierem kolorowych imprez w Polsce\, zorganizowaliśmy ki
 lkadziesiąt Festiwali Kolorów i kilkaset Eksplozji Kolorów na terenie c
 ałego kraju\, uczestnicy co roku wracają\, aby razem z nami się bawić 
 i obsypywać Kolorami Holi.\n\n◾️ Dla kogo?\n\nNa Eksplozjach spotykam
 y najwięcej uczniów i studentów\, ale wśród uczestników nie brakuje 
 przedstawicieli żadnej grupy wiekowej \;)\nPrawda jest taka\, że niezale
 żnie od wieku wszyscy świetnie się bawią wyrzucając kolory ?\n\n◾
 ️ Gdzie i kiedy?\n\nWidzimy się 29 czerwca ?\, start o godzinie 17:00 
 ⏰Cała impreza odbywa się na Stadionie Orzeł Branice.\n\n◾️ Bilety
 \n\nWstęp wolny!\nPamiętajcie\, na imprezy organizowane przez nas zawsze
  możecie wejść za free. Zabierzcie swoich znajomych i bawcie się razem
  z nami ?\n\n◾️ Kolory Holi\n\nNa wydarzeniu zapewniamy dostęp do 11 
 różnych Kolorów Holi. Wśród kolorów:\n- żółty ?\n- pomarańczowy 
 ?\n- czerwony ❤️\n- zielony ?\n- niebieski ?\n- fioletowy ?\ni wiele i
 nnych!\n\nKolory Holi to barwny\, sypki puder\, który jest przyjazny śro
 dowisku i bezpieczny dla zdrowia. Nie powoduje on podrażnień ani uczule
 ń\, posiada odpowiednie certyfikaty UE. Dlatego przypominamy\, że ze wzg
 lędu bezpieczeństwa nie można przynosić własnych kolorów innych niż
  "Kolory Holi". Nasze kolory łatwo zmywają się ze skóry i ubrań! \n\n
 Kolory Holi będą dostępne na wydarzeniu w cenie:\n1 kolor - 10 zł ?\n2
  kolory - 15 zł ?\n\n◾️ Kontakt:\n\nW razie jakichkolwiek pytań doty
 czących Eksplozji Kolorów prosimy o kontakt mailowy.\n\n@: eksplozja@fes
 tiwalkolorow.pl\n\nZapraszamy! ?
ATTACH;FMTTYPE=image/jpeg:https://night4u.pl/wp-content/uploads/2019/06/47
 357_image_59911134_2309243792467418_8741349343283380224_o.jpg
CATEGORIES:opolskie
END:VEVENT
BEGIN:VTIMEZONE
TZID:Europe/Warsaw
X-LIC-LOCATION:Europe/Warsaw
BEGIN:DAYLIGHT
DTSTART:20190331T030000
TZOFFSETFROM:+0100
TZOFFSETTO:+0200
TZNAME:CEST
END:DAYLIGHT
END:VTIMEZONE
END:VCALENDAR