BEGIN:VCALENDAR
VERSION:2.0
PRODID:-//wp-events-plugin.com//7.2.3.1//EN
TZID:Europe/Warsaw
X-WR-TIMEZONE:Europe/Warsaw
BEGIN:VEVENT
UID:18305@night4u.pl
DTSTART;TZID=Europe/Warsaw:20190825T160000
DTEND;TZID=Europe/Warsaw:20190825T200000
DTSTAMP:20190605T161221Z
URL:https://night4u.pl/wydarzenia/eksplozja-kolorow-w-zabrzu-2019-vol-2/
SUMMARY:Eksplozja Kolorów w Zabrzu 2019 vol. 2!
DESCRIPTION:Staramy się zrobić powtórkę najbardziej kolorowej imprezy w
  Zabrzu już 25 sierpnia 2019! ?\nJeżeli będzie duża frekwencja to na p
 ewno się uda! ?\n\nWSTĘP BEZPŁATNY!!!\n❤️?????\n\nWyrzut Kolorów b
 ędą co godzinę! ??\nMnóstwo ATRAKCJI!!!???\nKonkursy z nagrodami i wie
 le innych! ?\nSzczegóły będziemy podawać na bieżąco jak uda nam się
  potwierdzić datę wydarzenia! ?\n\n?UWAGA KONKURS! ✌️\n\nDo wygrania
  Kolory Holi! ???\nŁatwo zgarnie je pierwszych 20 osób\, które:\n❗ Za
 proszą znajomych do wydarzenia (minimum 250 osób).\n❗ Napiszą na tabl
 icy eventu ZAPROSZONO i podadzą LICZBĘ zaproszonych osób.\n❗ Udostęp
 nią wydarzenie na swojej tablicy (jako publiczne lub dorzucą screen w ko
 mentarzu).\n\nNagrody do odebrania w dniu imprezy w strefie Kolorów Holi!
  :)\n\nNie może Was tam zabraknąć! ? Pamiętajcie\, im więcej ludzi ty
 m więcej zabawy\, dlatego zaproś swoich znajomych i pomóż nam dotrzeć
  do wszystkich!???\n\n\n\n◾️ Czym jest Eksplozja Kolorów?\n\nTo popul
 arna zabawa polega na wyrzucaniu w górę przez tysiące ludzi Kolorów Ho
 li\, które tworzą wielką barwną chmurę! Całe wydarzenie wypełnia at
 mosfera wiecznej wesołości. Młodzi i starsi\, wszyscy tańczą\, śpiew
 ają i bawią się\, rzucając Kolory w powietrze! To idealne miejsce\, ab
 y się wyszaleć i zrobić niesamowite zdjęcia.\n\nJesteśmy pionierem ko
 lorowych imprez w Polsce\, zorganizowaliśmy kilkadziesiąt Festiwali Kolo
 rów i kilkaset Eksplozji Kolorów na terenie całego kraju\, uczestnicy c
 o roku wracają\, aby razem z nami się bawić i obsypywać Kolorami Holi.
 \n\n◾️ Dla kogo?\n\nNa Eksplozjach spotykamy najwięcej uczniów i stu
 dentów\, ale wśród uczestników nie brakuje przedstawicieli żadnej gru
 py wiekowej \;)\nPrawda jest taka\, że niezależnie od wieku wszyscy świ
 etnie się bawią wyrzucając kolory :D\n\n◾️ Bilety\n\nWstęp wolny!\
 nPamiętajcie\, na imprezy organizowane przez nas zawsze możecie wejść 
 za free. Zabierzcie swoich znajomych i bawcie się razem z nami ?\n\n◾
 ️ Kolory Holi\n\nNa wydarzeniu zapewniamy dostęp do 11 różnych Kolor
 ów Holi. Wśród kolorów:\n- żółty ?\n- pomarańczowy ?\n- czerwony 
 ❤️\n- zielony ?\n- niebieski ?\n- fioletowy ?\ni wiele innych!\n\nKolo
 ry Holi to barwny\, sypki puder\, który jest przyjazny środowisku i bezp
 ieczny dla zdrowia. Nie powoduje on podrażnień ani \nuczuleń\, posiada 
 odpowiednie certyfikaty UE. Dlatego przypominamy\, że ze względu bezpiec
 zeństwa nie można przynosić \nwłasnych kolorów innych niż "Kolory Ho
 li". Kolory łatwo zmywają się ze skóry i ubrań! \n\nKolory Holi będ
 ą dostępne na wydarzeniu w cenie:\n1 kolor - 10 zł ?\n2 kolory - 15 zł
  ?\n\n◾️ Kontakt:\n\nW razie jakichkolwiek pytań dotyczących Eksploz
 ji Kolorów prosimy o kontakt mailowy.\n\n@: eksplozja@festiwalkolorow.pl\
 n\nZapraszamy! ?
ATTACH;FMTTYPE=image/jpeg:https://night4u.pl/wp-content/uploads/2019/06/44
 250_image_61533215_2339285192796611_430391770719715328_o.jpg
CATEGORIES:śląskie
END:VEVENT
BEGIN:VTIMEZONE
TZID:Europe/Warsaw
X-LIC-LOCATION:Europe/Warsaw
BEGIN:DAYLIGHT
DTSTART:20190331T030000
TZOFFSETFROM:+0100
TZOFFSETTO:+0200
TZNAME:CEST
END:DAYLIGHT
END:VTIMEZONE
END:VCALENDAR