BEGIN:VCALENDAR
VERSION:2.0
PRODID:-//wp-events-plugin.com//7.2.3.1//EN
TZID:Europe/Warsaw
X-WR-TIMEZONE:Europe/Warsaw
BEGIN:VEVENT
UID:33099@night4u.pl
DTSTART;TZID=Europe/Warsaw:20191109T194000
DTEND;TZID=Europe/Warsaw:20191110T050000
DTSTAMP:20191107T090855Z
URL:https://night4u.pl/wydarzenia/ekwador-transport-z-poznania-independenc
 e-day-2019/
SUMMARY:Ekwador Transport z Poznania- Independence Day 2019
DESCRIPTION:Witam wszystkich\, to juz 9 Listopada zajebsita impreza w ktory
 m pojawi sie wielu niesamowitych DJ ktorzy rozkreca nas \,musisz tam być\
 , cały Poznań jedzie z nami ! \n\n\nTo nie jest pierwszy transport na ta
 k duza impreze \,jezdzimy razem juz ponad 4 lata .\nChcesz jechać z nami 
 i przezyc kolejny raz zajebiste wspomnienia \,  dołacz do wydarzenia.( Je
 śli masz ukończone 18 lat ) Koszt miejsca w autobusie to 37 złotych \,p
 rzejazd w dwie strony .Bardzo szybko zbieramy caly autokar wiec spiesz sie
  . Platnosc na konto lub osobiscie ( nie ma możliwości płatności przy 
 autokarze) � !!!Nie ma zwrotu gotowki !!!Jesli wplacisz i nie mozesz jec
 hac \, napisz moze jakos sie dogadamy.\n\n\n\nLINEUP:\n\nJUZ WKROTCE\n\n\n
 REGULAMIN \n1. ZAKAZ PALENIA W AUTOKARZE\n2. PO DRODZE JEST TYLKO JEDEN PO
 STOJ (ALBO WOGOLE)\n3. KAZDE SMIECI PROSZE WKLADAC DO REKLAMOWKI KTORE BED
 A NA SIEDZENIACH\n4. NIE WOLNO STAC W AUTOKARZE\n5.ZAKAZ WSZCZYNANIA AWANT
 UR\n6. KAZDY ODPOWIADA ZA SIEBIE \n7.NIEMA ZWROTU PIENIEDZY JESLI COS CI W
 YPADNIE PONIEWAZ JA JESTEM WTEDY STRATNY JEDYNIE MOZNA TE MIEJSCE ODDAC KO
 MUS .\n8.TAM GDZIE WYSIADZIESZ W MANIECZKACH \, AUTOKAR PODJEDZIE POD KONI
 EC IMPREZY LUB TAM GDZIE OGLOSI ORGANIZATOR ( AUTOKAR CZEKA 20 MIN I ODJEZ
 DZA DO POZNANIA ) \n9. KAZDY ODPOWIADA ZA SWOJE RZECZY OSOBISTE .\n10. JES
 LI NIE UMIESZ SIE ZACHOWAC \, MOZESZ WYLECIEC Z AUTOAKARU .\n11. JESLI COS
  BEDZIE USZKODZONE W AUTOKARZE SZKODY PONOSI UCZESTNIK KTORY TAM PRZEBYWA
 Ł. \n12.NIE SPAC -ZWIEDZAC - ZAPIERDALAC :)\n\nJESLI JEDZIESZ Z NAMI I ZA
 PLACILES TO ZNACZY ZE AKCEPTUJESZ REGULAMIN :)\n\nINFO JAK TO WSZYSTKO WYG
 LĄDA \n\nWyjezdzamy ze zwierzynieckiej kolo starego zoo okolo 19\,40( naj
 lepiej byc wczesniej ) . \nWsiadamy do autokaru kazdy zajmuje miejsce i je
 dziemy \, muzyka manieczkowa gra \, mozna pic itp...\nPodrodze bedzie jede
 n postoj ( najprawdopodobniej ) \nPo przyjezdzie do manieczek autokar odje
 zdza ( jesli chcesz mozesz zostawic rzeczy w autokarze jeśli ten sam auto
 kar będzie jechał spowrotem ) \nAutokar odjezdza do bazy  poniewaz niech
 cemy zeby w nocy ktos obcy wchodzil do autokaru i ukradl wasze rzeczy .\nA
 utokar przyjezdza okolo 5 rano stoi 15 min i odjezdza do poznania nie czek
 ając za nikim . \n\nJESLI CHCESZ WPLACIC PIENIADZE NA KONTO \, PAMIETAJ A
 BY W TYTULE PODAC TYLKO IMIE I NAZWISKO ZA KOGO PLACISZ ( BEZ ZADNEGO EKWA
 DOR MANIECZKI TRANSPORT LUB TRANSPORT ) PROSZE O TYM PAMIETAC !!!\n\nPKO B
 ank Polski numer konta \n\n\n\n\nWyjazd z ul Zwierzynieckiej przy Starym Z
 oo \, okolo godziny 19\,40 a powrot 5 �\n\nW razie pytan pisz do mnie na
  fb - Dawid kojak lub zadzwon \n\nPROSZĘ OSOBY KTÓRE SĄ ZDECYDOWANE NA 
 100 % O BRANIE UDZIAŁU W WYDARZENIU \, NIE WIESZ CZY JEDZIESZ \nNIE KLIKA
 J!!\n\nJESLI MASZ CZAS ZAPROS ZNAJOMYCH I UDOSTEPNIJ WYDARZENIE :)\n\nPOZD
 RAWIAM CALA RODZINE EKWADORU �
ATTACH;FMTTYPE=image/jpeg:https://night4u.pl/wp-content/uploads/2019/11/81
 531_image_73278800_2677135315684062_8311763183874342912_n.jpg
CATEGORIES:wielkopolskie
LOCATION:Ekwador Manieczki\, manieczki\, Manieczki\, 63-111\, Poland
GEO:52.114205;16.931223
X-APPLE-STRUCTURED-LOCATION;VALUE=URI;X-ADDRESS=manieczki\, Manieczki\, 63-
 111\, Poland;X-APPLE-RADIUS=100;X-TITLE=Ekwador Manieczki:geo:52.114205,16
 .931223
END:VEVENT
BEGIN:VTIMEZONE
TZID:Europe/Warsaw
X-LIC-LOCATION:Europe/Warsaw
BEGIN:STANDARD
DTSTART:20191027T020000
TZOFFSETFROM:+0200
TZOFFSETTO:+0100
TZNAME:CET
END:STANDARD
END:VTIMEZONE
END:VCALENDAR