BEGIN:VCALENDAR
VERSION:2.0
PRODID:-//wp-events-plugin.com//7.2.3.1//EN
TZID:Europe/Warsaw
X-WR-TIMEZONE:Europe/Warsaw
BEGIN:VEVENT
UID:46227@night4u.pl
DTSTART;TZID=Europe/Warsaw:20200214T235900
DTEND;TZID=Europe/Warsaw:20200215T120000
DTSTAMP:20200215T105416Z
URL:https://night4u.pl/wydarzenia/elements_mia-twin_gigi_conradq_gigee_bek
 ett_koza_ades/
SUMMARY:ELEMENTS_Mia Twin_Gigi_Conradq_Gigee_Bekett_Koza_Ades
DESCRIPTION:Zapraszamy na piątą\, walentynkową edycję fizyczno - chemic
 znego projektu\, pod kryptonimem ELEMENTS.\n\nELEMENTS to odkrywcza seria 
 badań\, w której przy użyciu dźwięków z kosmosu i substancji chemicz
 nych\, badamy wpływ nieskrępowanej balangi na ludzkie ciało. Do poprowa
 dzenia tych doświadczeń\, wskazaliśmy wiodącą grupę naukowców. \n\n
 Conradq [Muno.pl]\nBekett [Elements\, Big Boat Party]\n'ades' [Luzztro]\n\
 nGiGi / PL [Elements\, Instytut]\nMia Twin [Otake rec.]\nGIGEE [Katermukke
 ]\nKoZa [Luzztro]\n\nZwiązki muzyczne jakie zostaną użyte do tego dośw
 iadczenia to: \ndeep\, techno\, minimal\, house.\n\nProsimy o monitorowani
 e swoich reakcji i poinformowanie nas o planowanej obecności. Dziękujemy
 .
ATTACH;FMTTYPE=image/jpeg:https://night4u.pl/wp-content/uploads/2020/02/15
 1634_image_84762250_10157558474684473_4998333487107801088_o.jpg
CATEGORIES:mazowieckie
LOCATION:Luzztro\, Aleje Jerozolimskie 6\, Warsaw\, 00-374\, Poland
GEO:52.232779;21.023655
X-APPLE-STRUCTURED-LOCATION;VALUE=URI;X-ADDRESS=Aleje Jerozolimskie 6\, War
 saw\, 00-374\, Poland;X-APPLE-RADIUS=100;X-TITLE=Luzztro:geo:52.232779,21.
 023655
END:VEVENT
BEGIN:VTIMEZONE
TZID:Europe/Warsaw
X-LIC-LOCATION:Europe/Warsaw
BEGIN:STANDARD
DTSTART:20191027T020000
TZOFFSETFROM:+0200
TZOFFSETTO:+0100
TZNAME:CET
END:STANDARD
END:VTIMEZONE
END:VCALENDAR