BEGIN:VCALENDAR
VERSION:2.0
PRODID:-//wp-events-plugin.com//7.2.3.1//EN
TZID:Europe/Warsaw
X-WR-TIMEZONE:Europe/Warsaw
BEGIN:VEVENT
UID:18982@night4u.pl
DTSTART;TZID=Europe/Warsaw:20190629T220000
DTEND;TZID=Europe/Warsaw:20190630T050000
DTSTAMP:20190612T190706Z
URL:https://night4u.pl/wydarzenia/enjoy-by-tom-forester-bank-club-3/
SUMMARY:ENJOY by Tom Forester / Bank Club
DESCRIPTION:★ SCENA ★ STAGE ★\n\nOdtwórz najnowszy podcast ENJOY: 
 ⏯http://enjoy.tomforester.com\n\nENJOY by Tom Forester  to muzyczna podr
 óż po najlepszych imprezowych dźwiękach\, ENJOY to także rozrywka na 
 najwyższym poziomie\, czerpanie do granic możliwości przyjemności z ta
 ńca i imprezy. Niebanalny gust i świetna selekcja muzyczna naszego gośc
 ia spowoduje że impreza ENJOY na stałe zagości w Waszym klubowym kalend
 arzu!\n\nHosted by:\nTom Forester\nSoban (Opening Set)\n\n★ DRESS CODE 
 ★\nsmart casual\n\n★ REZERWACJE ★ RESERVATIONS ★\nhttps://emenago.
 com/i/bankclub\n+48 795 445 162\n\nPrzewidzieliśmy bezpłatne wejście do
  klubu dla wszyskich posiadających rezerwacje stolika w godz. 22:00 - 23:
 00. \n\n★ OFERTY SPECJALNE ★ SPECIAL OFFERS ★\nDla wszystkich posiad
 ających rezerwacje przygotowaliśmy zestaw Wódka Ketel One 0\,7 l + 6x s
 oft lub RedBull już za 270 zł\n\n★ BILET ★ TAX ★\n25 PLN \nWszystk
 ie Panie do 23:00 mogą bezpłatnie wejść do klubu.
ATTACH;FMTTYPE=image/jpeg:https://night4u.pl/wp-content/uploads/2019/06/45
 907_image_62594842_2474296695962689_4440507610059243520_o.jpg
CATEGORIES:mazowieckie
LOCATION:BANK CLUB\, Mazowiecka 14\, Warsaw\, 00-048\, Poland
GEO:52.23816;21.01309
X-APPLE-STRUCTURED-LOCATION;VALUE=URI;X-ADDRESS=Mazowiecka 14\, Warsaw\, 00
 -048\, Poland;X-APPLE-RADIUS=100;X-TITLE=BANK CLUB:geo:52.23816,21.01309
END:VEVENT
BEGIN:VTIMEZONE
TZID:Europe/Warsaw
X-LIC-LOCATION:Europe/Warsaw
BEGIN:DAYLIGHT
DTSTART:20190331T030000
TZOFFSETFROM:+0100
TZOFFSETTO:+0200
TZNAME:CEST
END:DAYLIGHT
END:VTIMEZONE
END:VCALENDAR