BEGIN:VCALENDAR
VERSION:2.0
PRODID:-//wp-events-plugin.com//7.2.3.1//EN
TZID:Europe/Warsaw
X-WR-TIMEZONE:Europe/Warsaw
BEGIN:VEVENT
UID:25871@night4u.pl
DTSTART;TZID=Europe/Warsaw:20190907T220000
DTEND;TZID=Europe/Warsaw:20190908T050000
DTSTAMP:20190830T162827Z
URL:https://night4u.pl/wydarzenia/enjoy-by-tom-forester-special-guests-2/
SUMMARY:ENJOY by Tom Forester | Special Guests
DESCRIPTION:W sobotę 7 września wracamy do Was z kolejną edycją imprezy
  ENJOY! ENJOY by Tom Forester to muzyczna podróż po najlepszych imprezow
 ych dźwiękach\, ENJOY to także rozrywka na najwyższym poziomie\, czerp
 anie do granic możliwości przyjemności z tańca i imprezy. Niebanalny g
 ust i świetna selekcja muzyczna gospodarza imprezy oraz jego gości spowo
 duje iż\, ENJOY na stałe zagości w Waszym klubowym kalendarzu.\n\nCiesz
  się muzyką! Posłuchaj podcastów ENJOY -> https://enjoy.tomforester.co
 m\n\nSala Główna:\nTom Forester\nBarto (Special Guest)\nSoban (Opening)\
 nPetrick (Closing)\n\nSala R'n'B:\n₭fΛĐЯΛṪ\n\nSala Latino:\nGelmis
  Basabe & Alex Sanchez\n\nPanie do 23:00 wchodzą za FREE!\nKarty Klubowe 
 wstęp FREE!\nZapisz się na listę gości http://www.pachapoznan.com/ -> 
 Imprezy -> przycisk "Zapisz się na listę gości"\n\nBilety dostępne w k
 asie klubu w dniu imprezy od godziny 22:00 w cenie: kobiety 20zł\, mężc
 zyźni 30zł.\nDo wyprzedania w kasie klubu przy ul. Paderewskiego 10 (gł
 ówne wejście).\nDo każdego zakupionego biletu\, PACHA Poznań zapewnia 
 bezpłatną szatnię. W klubie obowiązuje selekcja oraz bezwzględny zaka
 z żucia gumy. Przed zakupem prosimy o zapoznanie się z regulaminem klubu
 .
ATTACH;FMTTYPE=image/jpeg:https://night4u.pl/wp-content/uploads/2019/08/60
 568_image_69557738_2516593405072070_3638553236400504832_o.jpg
CATEGORIES:wielkopolskie
LOCATION:Pacha Poznań\, ul. Paderewskiego 10\, Poznan\, 61-740\, Poland
GEO:52.407928;16.931163
X-APPLE-STRUCTURED-LOCATION;VALUE=URI;X-ADDRESS=ul. Paderewskiego 10\, Pozn
 an\, 61-740\, Poland;X-APPLE-RADIUS=100;X-TITLE=Pacha Poznań:geo:52.40792
 8,16.931163
END:VEVENT
BEGIN:VTIMEZONE
TZID:Europe/Warsaw
X-LIC-LOCATION:Europe/Warsaw
BEGIN:DAYLIGHT
DTSTART:20190331T030000
TZOFFSETFROM:+0100
TZOFFSETTO:+0200
TZNAME:CEST
END:DAYLIGHT
END:VTIMEZONE
END:VCALENDAR