BEGIN:VCALENDAR
VERSION:2.0
PRODID:-//wp-events-plugin.com//7.2.3.1//EN
TZID:Europe/Warsaw
X-WR-TIMEZONE:Europe/Warsaw
BEGIN:VEVENT
UID:31626@night4u.pl
DTSTART;TZID=Europe/Warsaw:20191026T220000
DTEND;TZID=Europe/Warsaw:20191027T050000
DTSTAMP:20250901T211137Z
URL:https://night4u.pl/wydarzenia/enjoy-by-tom-forester-special-guests-3/
SUMMARY:ENJOY by Tom Forester | Special Guests
DESCRIPTION:W sobotę 26 października wracamy do Was z kolejną edycją im
 prezy ENJOY! ENJOY by Tom Forester to muzyczna podróż po najlepszych imp
 rezowych dźwiękach\, ENJOY to także rozrywka na najwyższym poziomie\, 
 czerpanie do granic możliwości przyjemności z tańca i imprezy. Niebana
 lny gust i świetna selekcja muzyczna gospodarza imprezy oraz jego gości 
 spowoduje iż\, ENJOY na stałe zagości w Waszym klubowym kalendarzu.\n\n
 Ciesz się muzyką! Posłuchaj podcastów ENJOY -&gt\; https://enjoy.tomfo
 rester.com\n\nSala Główna:\nTom Forester\nSoulfreak Kollektiv (Special G
 uests)\nSoban (Opening)\nMartin Rowse (Closing)\n\nSala R'n'B:\nSuoma\n\nS
 ala Latino:\nDomi\n\nPanie do 23:00 wchodzą za FREE!\nKarty Klubowe wstę
 p FREE!\nZapisz się na listę gości http://www.pachapoznan.com/ -&gt\; I
 mprezy -&gt\; przycisk "Zapisz się na listę gości"\n\nBilety dostępne 
 w kasie klubu w dniu imprezy od godziny 22:00 w cenie: kobiety 20zł\, mę
 żczyźni 30zł.\nDo wyprzedania w kasie klubu przy ul. Paderewskiego 10 (
 główne wejście).\nDo każdego zakupionego biletu\, PACHA Poznań zapewn
 ia bezpłatną szatnię. W klubie obowiązuje selekcja oraz bezwzględny z
 akaz żucia gumy. Przed zakupem prosimy o zapoznanie się z regulaminem kl
 ubu.
ATTACH;FMTTYPE=image/jpeg:https://night4u.pl/wp-content/uploads/2019/10/74
 119_image_73346499_2626333410764735_4474445483854528512_o.jpg
CATEGORIES:wielkopolskie
LOCATION:Pacha Poznań\, ul. Paderewskiego 10\, Poznan\, 61-740\, Poland
GEO:52.407928;16.931163
X-APPLE-STRUCTURED-LOCATION;VALUE=URI;X-ADDRESS=ul. Paderewskiego 10\, Pozn
 an\, 61-740\, Poland;X-APPLE-RADIUS=100;X-TITLE=Pacha Poznań:geo:52.40792
 8,16.931163
END:VEVENT
BEGIN:VTIMEZONE
TZID:Europe/Warsaw
X-LIC-LOCATION:Europe/Warsaw
BEGIN:DAYLIGHT
DTSTART:20190331T030000
TZOFFSETFROM:+0100
TZOFFSETTO:+0200
TZNAME:CEST
END:DAYLIGHT
BEGIN:STANDARD
DTSTART:20191027T020000
TZOFFSETFROM:+0200
TZOFFSETTO:+0100
TZNAME:CET
END:STANDARD
END:VTIMEZONE
END:VCALENDAR