BEGIN:VCALENDAR
VERSION:2.0
PRODID:-//wp-events-plugin.com//7.2.3.1//EN
TZID:Europe/Warsaw
X-WR-TIMEZONE:Europe/Warsaw
BEGIN:VEVENT
UID:17257@night4u.pl
DTSTART;TZID=Europe/Warsaw:20200129T183000
DTEND;TZID=Europe/Warsaw:20200129T230000
DTSTAMP:20200129T155417Z
URL:https://night4u.pl/wydarzenia/equilibrium-lord-of-the-lost-nto-29-i-kr
 akow/
SUMMARY:Equilibrium + Lord Of The Lost\, NTO / 29 I / Kraków
DESCRIPTION:🚪 18:30 - Drzwi\n🤘 19:00-19:35 - Nailed To Obscurity\n
 🤘 19:55-20:45 - Lord Of The Lost\n🤘 21:15-... - Equilibrium\n\n--\n\
 nKnock Out Productions prezentuje koncert zespołu Equilibrium w Krakowie!
  Niemiecka grupa wystąpi w Polsce w towarzystwie kapel: Lord Of The Lost 
 i Nailed To Obscurity! \n\nEquilibrium to folkmetalowa formacja\, która p
 owstała w 2001 roku. W czasie 18-letniej kariery\, kapela zgromadziła na
  swoim koncie pięć pełnowymiarowych albumów\, w tym ostatni - „Armag
 eddon”\, który wydany został w 2016 roku\, nakładem Nuclear Blast Rec
 ords.\nJuż za kilka miesięcy\, ukazać ma się najnowsze wydawnictwo kap
 eli – płyta „Renegades”. Premiera krążka przewidziana jest na 16 
 sierpnia 2019\, również za pośrednictwem wytwórni Nuclear Blast Record
 s\, a styczniowy koncert w Polsce\, będzie częścią trasy promującej t
 en album.\n\nEquilibrium wystapi w naszym kraju 29 stycznia 2020 roku\, w 
 krakowskim klubie Kwadrat. Jako goście specjalni\, na scenie pojawią si
 ę dwie niemieckie grupy – Lord Of The Lost oraz Nailed To Obscurity!\n\
 nBilety na koncert dostępne na:\n🎟 https://sklep.knockoutprod.net\n
 🎟 http://eventim.pl\n\n--\n\n[PL] Uwaga! ⚠ Kupując bilet od osób um
 ieszczających oferty na nieautoryzowanych stronach (Viagogo\, Ticketswap\
 , Allegro\, OLX czy Facebook)\, ryzykujesz nabycie fałszywej wejściówki
 \, która uniemożliwia wejście na koncert. Prosimy o kupowanie biletów 
 wyłącznie w autoryzowanych punktach sprzedaży\, tj. sklep.knockoutprod.
 net oraz eventim.pl! \n\n[ENG] Attention! ⚠ Buying tickets through unaut
 hroized platforms (Viagogo\, Ticketswap\, etc.) is a risk of buying false 
 tickets which will not let You participate in our shows. The only authoris
 ed ticket stores are sklep.knockoutprod.net and eventim.pl.\n\n--\n\n🎵 
 EQUILIBRIUM (Niemcy) epicki folk metal:\n\nEquilibrium to nazwa doskonale 
 znana polskim fanom\, którzy kochają połączenie folku i metalu\, ponie
 waż formacja z Bawarii gościła u nas niejednokrotnie. Powstała w krain
 ie Oktoberfestu w 2001 roku z inicjatywy gitarzysty\, klawiszowca i głów
 nego kompozytora René Berthiaume'a\, który jest jedynym muzykiem\, jaki 
 pamięta początki grupy. Muzyka to wypadkowa jego wyobraźni. Oparta jest
  na skocznym rytmie\, potężnym uderzeniu gitar\, klimatycznie epicka\, t
 ekstowo zaś czerpiąca ze starogermańskich mitów i legend. Opowieści 
 śpiewane są w języku Goethego. Lidera w realizacji jego artystycznej wi
 zji wspomagają Hati (perkusja)\, Robse (wokal)\, Dom (gitara)\, Skar (git
 ara basowa) i Skadi Rosehurst (klawisze).\n\nSprawdź\, jeśli lubisz: Elu
 veitie\, Finntroll\, Korpiklaani…\n\n▶ https://equilibrium-metal.net/e
 n/\n▶ https://www.facebook.com/equilibrium/\n▶ https://www.youtube.com
 /watch?v=hYoB2Tj3LR8\n\n🎵 LORD OF THE LOST (Niemcy) dark metal:\n\nPo d
 rugiej stronie Niemiec\, bo w hamburskiej dzielnicy Sankt Pauli\, powstał
  w 2007 roku zespół Lord Of The Lost. Inicjatorem narodzin kapeli był w
 okalista\, gitarzysta i wiolonczelista Chris Harms. W obecnym wcieleniu LO
 TL wspiera go gitarzysta o ksywce π\, basista Class Grenayde\, Gared Dirg
 e (syntezatory\, perkusjonalia\, gitara) i Niklas Kahl (perkusja). \n\nLor
 d Of The Lost cechuje nie tylko wyrazisty wizerunek\, lecz również muzyk
 a\, w której odnajdziemy miłą dla ucha\, siermiężność i potęgę Ra
 mmstein\, a także ciężar\, mrok\, finezję oraz melodyjność. Tak\, br
 zmi mocno paradoksalnie\, lecz nie da się zaprzeczyć\, że w muzyce niem
 ieckiej kapeli daje się wychwycić walcowate klimaty\, przywołujące wsp
 omnienie niezapomnianego Type O Negative\, a także gotycko-popowe momenty
 \, z których słynął fiński H.I.M. Jeśli dorzucimy do tego wstawki in
 dustrialne plus coś z ogródka Die Krupps albo Oomph!\, robi się naprawd
 ę ciekawie. Nie ma co ukrywać\, że niemała zasługa w tym\, że przyk
 ładowo album "Thornstar" (2018) otrzymał doskonałe recenzje\, jest po s
 tronie Chrisa Harmsa\, którego niesamowite możliwości wokalne robią im
 ponujące wrażenie. \n\nSprawdź\, jeśli lubisz: H.I.M.\, Type O Negativ
 e\, Rammstein…\n\n▶ https://www.facebook.com/lordofthelost/\n▶ https
 ://www.youtube.com/watch?v=ai3LrJ2MPSs\n\n🎵 NAILED TO OBSCURITY (Niemcy
 ) melodyjny doom metal\, death metal:\n\nNailed To Obscurity to coś dla t
 ych\, którzy preferują dźwięki deathmetalowe pożenione z klimatami do
 omowymi i skoligacone dość blisko z melodiami. Kapela powstała w 2005 r
 oku w Dolnej Saksonii i również jest w Polsce znana\, bo grała u nas\, 
 chociażby przed Dark Tranquillity. Od tamtej pory nie zmienił się skła
 d niemieckiej kapeli\, w którym są dwaj oryginalni muzycy – Jan-Ole La
 mberti (gitara) i Volker Dieken (gitara)\, a oprócz nich Jann Hillrichs (
 perkusja)\, basista Carsten Schorn oraz będący w kapeli od 2012 roku wok
 alista Raimund Ennenga. Jeśli ktoś ceni sobie granie w stylu starego Ope
 th\, Swallow The Sun\, czy Insomnium\, z pewnością nie zawiedzie się\, 
 gdy sięgnie po coś z dorobku Niemców. \n\nSprawdź\, jeśli lubisz: Ins
 omnium\, Swallow The Sun\, Katatonia…\n\n▶ http://www.nailedtoobscurit
 y.com\n▶ https://www.facebook.com/nailedtoobscurity/\n▶ https://www.yo
 utube.com/watch?v=LY7Oo3H5ec8\n\n\nWystąpią:\nEQUILIBRIUM (Niemcy) epick
 i folk metal\n+\nLord Of The Lost (Niemcy) dark metal\nNailed To Obscurity
  (Niemcy) melodyjny doom metal\, death metal\n\nKiedy: 29 stycznia (środa
 ) 2020\nGdzie: Kraków @ Kwadrat\, ul. Skrarżyńskiego 1\nBilety: 80 zł 
 – przedsprzedaż\, 90 zł – w dniu koncertu\nOrganizator: Knock Out Pr
 oductions\n\nBilety na koncert dostępne na:\n🎟 https://sklep.knockoutp
 rod.net  (druki kolekcjonerskie) \n🎟 http://eventim.pl\n\n\nZaprasza \n
 Knock Out Productions \nhttp://www.knockoutprod.net\nhttps://www.facebook.
 com/productions.knock.out\nhttps://www.instagram.com/knockoutprod
ATTACH;FMTTYPE=image/jpeg:https://night4u.pl/wp-content/uploads/2019/05/42
 006_image_61025711_2328856530468503_3762966357222621184_o.jpg
CATEGORIES:małopolskie
LOCATION:Hala Forum\, Marii Konopnickiej 28\, Kraków\, 30-302\, Poland
GEO:50.04504;19.93639
X-APPLE-STRUCTURED-LOCATION;VALUE=URI;X-ADDRESS=Marii Konopnickiej 28\, Kra
 ków\, 30-302\, Poland;X-APPLE-RADIUS=100;X-TITLE=Hala Forum:geo:50.04504,
 19.93639
END:VEVENT
BEGIN:VTIMEZONE
TZID:Europe/Warsaw
X-LIC-LOCATION:Europe/Warsaw
BEGIN:STANDARD
DTSTART:20191027T020000
TZOFFSETFROM:+0200
TZOFFSETTO:+0100
TZNAME:CET
END:STANDARD
END:VTIMEZONE
END:VCALENDAR